BEGIN:VCALENDAR
VERSION:2.0
PRODID:-//ChamberMaster//Event Calendar 2.0//EN
METHOD:PUBLISH
X-PUBLISHED-TTL:P3D
REFRESH-INTERVAL:P3D
CALSCALE:GREGORIAN
BEGIN:VEVENT
DTSTART:20171125T010000Z
DTEND:20171125T040000Z
X-MICROSOFT-CDO-ALLDAYEVENT:FALSE
SUMMARY:The Crash & Byrne Leftovers Special at The Alley Kat!
DESCRIPTION:Stop by and check out Crash & Byrne's Leftovers Special! Enjoy great food\, a fully stocked bar with 16 varieties of draft beer while you listen to Hudson Valley's premier acoustic band Crash & Byrne play all your favorite tunes!\n\n\n\nCheck out the event details on our Facebook page:\n\nThe Crash & Byrne Leftovers Special at The Alley Kat!
X-ALT-DESC;FMTTYPE=text/html:<span style="color:rgb(75\, 79\, 86)\; font-family:sf optimized\,system-ui\,-apple-system\,blinkmacsystemfont\,.sfnstext-regular\,sans-serif\; font-size:14px">Stop by and check out Crash &amp\; Byrne&#39\;s Leftovers Special! Enjoy great food\, a fully stocked bar with 16 varieties of draft beer while you listen to Hudson Valley&#39\;s premier acoustic band Crash &amp\; Byrne play all your favorite tunes!</span><br />\n<br />\nCheck out the event details on our Facebook page:<br />\n<a href="https://www.facebook.com/events/901276726697422/">The Crash &amp\; Byrne Leftovers Special at The Alley Kat!</a>\n<h1>&nbsp\;</h1>\n
LOCATION:The Alley Kat 1677 US 9 Wappingers Falls\, New York\, NY 12590
UID:e.2770.10476610
SEQUENCE:3
DTSTAMP:20260426T020803Z
URL:https://business.dcrcoc.org/events/details/the-crash-byrne-leftovers-special-at-the-alley-kat-10476610
END:VEVENT

END:VCALENDAR
