BEGIN:VCALENDAR
VERSION:2.0
PRODID:-//ChamberMaster//Event Calendar 2.0//EN
METHOD:PUBLISH
X-PUBLISHED-TTL:P3D
REFRESH-INTERVAL:P3D
CALSCALE:GREGORIAN
BEGIN:VEVENT
DTSTART:20180303T013000Z
DTEND:20180303T040000Z
X-MICROSOFT-CDO-ALLDAYEVENT:FALSE
SUMMARY:The Differents play The Alley Kat!
DESCRIPTION:Join us for the Hudson Valley's premier acoustic rock cover band the Differents! Kick back and relax with this talented band while enjoying The Alley Kat's delicious menu options\, mixed drink specials and 14 varieties of draft beer!\n\n \nCheck out the event details on our Facebook page:\n\nThe Differents play The Alley Kat!
X-ALT-DESC;FMTTYPE=text/html:<div><span style="color:rgb(75\, 79\, 86)\; font-family:system-ui\,-apple-system\,blinkmacsystemfont\,.sfnstext-regular\,sans-serif\; font-size:14px">Join us for the Hudson Valley&#39\;s premier acoustic rock cover band the Differents! Kick back and relax with this talented band while enjoying The Alley Kat&#39\;s delicious menu options\, mixed drink specials and 14 varieties of draft beer!</span><br />\n&nbsp\;</div>\nCheck out the event details on our Facebook page:<br />\n<a href="https://www.facebook.com/events/413398612422711/">The Differents play The Alley Kat!</a><br />\n&nbsp\;
LOCATION:The Alley Kat 1677 US 9 Wappingers Falls\, New York\, NY 12590
UID:e.2770.10476826
SEQUENCE:3
DTSTAMP:20260425T210452Z
URL:https://business.dcrcoc.org/events/details/the-differents-play-the-alley-kat-10476826
END:VEVENT

END:VCALENDAR
