BEGIN:VCALENDAR
VERSION:2.0
PRODID:-//ChamberMaster//Event Calendar 2.0//EN
METHOD:PUBLISH
X-PUBLISHED-TTL:P3D
REFRESH-INTERVAL:P3D
CALSCALE:GREGORIAN
BEGIN:VEVENT
DTSTART:20181118T013000Z
DTEND:20181118T043000Z
X-MICROSOFT-CDO-ALLDAYEVENT:FALSE
SUMMARY:The Drizzle Debuts at The Alley Kat!
DESCRIPTION:We are happy to host the Hudson Valley's finest purveyors of Funk/Soul/R&B - The Drizzle! Come for dinner\, stay for the Funk! Enjoy The Alley Kat award winning gourmet wood fired pizza with one of 14 drafts on tap or treat yourself to a top shelf cocktails!\n\n\n\nCheck out the event details on our Facebook page:\n\nThe Drizzle Debuts at The Alley Kat!
X-ALT-DESC;FMTTYPE=text/html:<span style="color:rgb(29\, 33\, 41)\; font-family:system-ui\,-apple-system\,blinkmacsystemfont\,.sfnstext-regular\,sans-serif\; font-size:14px">We are happy to host the Hudson Valley&#39\;s finest purveyors of Funk/Soul/R&amp\;B - The Drizzle! Come for dinner\, stay for the Funk! Enjoy The Alley Kat award winning gourmet wood fired pizza with one of 14 drafts on tap or treat yourself to a top shelf cocktails!</span><br />\n<br />\nCheck out the event details on our Facebook page:<br />\n<a href="https://www.facebook.com/events/563167570765196/">The Drizzle Debuts at The Alley Kat!</a>
LOCATION:The Alley Kat 1677 US 9 Wappingers Falls\, New York\, NY 12590
UID:e.2770.10479440
SEQUENCE:3
DTSTAMP:20260425T101841Z
URL:https://business.dcrcoc.org/events/details/the-drizzle-debuts-at-the-alley-kat-10479440
END:VEVENT

END:VCALENDAR
