BEGIN:VCALENDAR
VERSION:2.0
PRODID:-//ChamberMaster//Event Calendar 2.0//EN
METHOD:PUBLISH
X-PUBLISHED-TTL:P3D
REFRESH-INTERVAL:P3D
CALSCALE:GREGORIAN
BEGIN:VEVENT
DTSTART:20180116T220000Z
DTEND:20180117T000000Z
X-MICROSOFT-CDO-ALLDAYEVENT:FALSE
SUMMARY:The Grand Healthcare at River Valley Ribbon Cutting Ceremony in Honor of Opening of the Butch Anderson Cardiopulmonary Center
DESCRIPTION:The Grand Healthcare at River Valley is excited to announce the opening of the Butch Anderson Cardiopulmonary Center on January 16th from 5pm-7pm. Food and beverages will be provided along with raffles and prizes.
X-ALT-DESC;FMTTYPE=text/html:The Grand Healthcare at River Valley is excited to announce the opening of the Butch Anderson Cardiopulmonary Center on January 16th from 5pm-7pm. Food and beverages will be provided along with raffles and prizes.
LOCATION:140 Main Street\, Poughkeepsie
UID:e.2770.10476706
SEQUENCE:3
DTSTAMP:20260425T232537Z
URL:https://business.dcrcoc.org/events/details/the-grand-healthcare-at-river-valley-ribbon-cutting-ceremony-in-honor-of-opening-of-the-butch-anderson-cardiopulmonary-center-10476706
END:VEVENT

END:VCALENDAR
