BEGIN:VCALENDAR
VERSION:2.0
PRODID:-//ChamberMaster//Event Calendar 2.0//EN
METHOD:PUBLISH
X-PUBLISHED-TTL:P3D
REFRESH-INTERVAL:P3D
CALSCALE:GREGORIAN
BEGIN:VEVENT
DTSTART:20180128T183000Z
DTEND:20180128T200000Z
X-MICROSOFT-CDO-ALLDAYEVENT:FALSE
SUMMARY:The Hudson Valley Success Academy Charter School Public Input Forum
DESCRIPTION:The Hudson Valley Success Academy is a proposed new FREE Public Charter School that is currently in the process of soliciting public input and comments from the residents of the City of Poughkeepsie and Dutchess County at-large.\n\n\n\nWe are organizing upcoming outreach events that will be open to all community members and form part of the requirements of the application's "Letter of Intent" process by the SUNY Trustees responsible for Charter School approvals in New York State.\n\n\n\nPlease join our public information forums to learn more about our approach to transformative education and engage us in person with your invaluable input\, comments and suggestions.\n\n\n\nProposed Charter School Name: The Hudson Valley Success Academy Proposed School Opening: Fall of 2019\n\nIntended Location: City of Poughkeepsie Target Student Population:\n\n*Special Needs Learners\n\n*English Language Learners\n\n*General Education Learners\n\n*Challenged Learners\n\n*Excelled/Advanced Learners Proposed Grades and Enrollment: Grades K-6 Total enrollment: 300 Students\n\n\n\nOUR 1st COMMUNITY FORUM Location:\n\nHudson Valley Community Center\n\n110 Grand Street\, Poughkeepsie\, NY\n\nDate: January 19\, 2018\n\nTime: 6:00pm to 7:30pm\n\n\n\nPublic comment forms will be provided.\n\n\n\nOUR 2nd COMMUNITY FORUM\n\nLocation: River Station Restaurant (upstairs)\n\n1 North Water Street\, Poughkeepsie\, NY\n\nDate: Sunday\, January 28\, 2018\n\nTime: 1:30pm to 3:00pm\n\nPublic comment forms will be provided.\n\n\n\nRSVP with Educational Consultant: RobertWatson@thehudsonvalleysuccessacademy.com\n\n\n\nFor additional information and comments\, please visit our website: thehudsonvalleysuccessacademy.com\n\n\n\nAny written public input or comments can be sent to:\n\nC/O Mr. Watson\, Educational Consultant\n\n41 Worrall Avenue\, Poughkeepsie\, NY 12603\n\n\n\nCOMUNICADO DE PRENSA La Hudson Valley Success Academy es una nueva propuesta de escuela p blica ch rter que actualmente se encuentra en el proceso de solicitar la opini n p blica de los residentes de la Ciudad de Poughkeepsie y del condado de Dutchess en general. Estaremos realizando una serie de eventos abiertos a todos los miembros de la comunidad. Estos encuentros forman parte de los requisitos del proceso de la "Carta de Intenci n" de la aplicaci n por parte de los Fideicomisarios de SUNY responsables de las aprobaciones de las Escuelas Ch rter en el estado de Nueva York.  nase a nuestros foros de di logo p blico para obtener mayor informaci n acerca de nuestro enfoque transformador de la educaci n y para poder interactuar con nuestro equipo con sus aportes\, comentarios y sugerencias. Nombre Propuesto de la Escuela Ch rter: The Hudson Valley Success Academy Propuesta de Fecha de Lanzamiento: El oto o del 2019 Lugar: La Ciudad de Poughkeepsie Poblaci n estudiantil objetivo: *Estudiantes con necesidades especiales *Estudiantes del ingl s como segundo idioma *Estudiantes de educaci n general *Estudiantes avanzados Grados propuestos para la inscripci n inicial: K-6 Matr cula total: 300 estudiantes NUESTRO 1er FORO DE LA COMUNIDAD Ubicaci n: Hudson Valley Community Center 110 Grand Street\, Poughkeepsie\, NY Fecha: 19 de enero de 2018 Hora: 6:00 p.m. a 7:30 p.m. Se proporcionar n formularios para comentarios p blicos NUESTRO 2  FORO DE LA COMUNIDAD Ubicaci n: River Station Restaurant (segundo piso) 1 North Water Street\, Poughkeepsie\, NY Fecha: domingo\, 28 de enero de 2018 Hora: 1:30 p.m. a 3:00 p.m. Se proporcionar n formularios para comentarios p blicos Confirmar su presencia con el Consultor Educativo: RobertWatson@thehudsonvalleysuccessacademy.com Para obtener m s informaci n y compartir comentarios adicionales\, visite nuestro sitio web: thehudsonvalleysuccessacademy.com Comentarios p blicos escritos se pueden enviar a: C / O Sr. Watson\, consultor educativo\, 41 Worrall Avenue\, Poughkeepsie\, NY 12603
X-ALT-DESC;FMTTYPE=text/html:The Hudson Valley Success Academy is a proposed new FREE Public Charter School that is currently in the process of soliciting public input and comments from the residents of the City of Poughkeepsie and Dutchess County at-large.<br />\n<br />\nWe are organizing upcoming outreach events that will be open to all community members and form part of the requirements of the application&rsquo\;s &ldquo\;Letter of Intent&rdquo\; process by the SUNY Trustees responsible for Charter School approvals in New York State.<br />\n<br />\nPlease join our public information forums to learn more about our approach to transformative education and engage us in person with your invaluable input\, comments and suggestions.<br />\n<br />\nProposed Charter School Name: The Hudson Valley Success Academy Proposed School Opening: Fall of 2019<br />\nIntended Location: City of Poughkeepsie Target Student Population:<br />\n*Special Needs Learners<br />\n*English Language Learners<br />\n*General Education Learners<br />\n*Challenged Learners<br />\n*Excelled/Advanced Learners Proposed Grades and Enrollment: Grades K-6 Total enrollment: 300 Students<br />\n<br />\nOUR 1st COMMUNITY FORUM Location:<br />\nHudson Valley Community Center<br />\n110 Grand Street\, Poughkeepsie\, NY<br />\nDate: January 19\, 2018<br />\nTime: 6:00pm to 7:30pm<br />\n<br />\nPublic comment forms will be provided.<br />\n<br />\nOUR 2nd COMMUNITY FORUM<br />\nLocation: River Station Restaurant (upstairs)<br />\n1 North Water Street\, Poughkeepsie\, NY<br />\nDate: Sunday\, January 28\, 2018<br />\nTime: 1:30pm to 3:00pm<br />\nPublic comment forms will be provided.<br />\n<br />\nRSVP with Educational Consultant: RobertWatson@thehudsonvalleysuccessacademy.com<br />\n<br />\nFor additional information and comments\, please visit our website: thehudsonvalleysuccessacademy.com<br />\n<br />\nAny written public input or comments can be sent to:<br />\nC/O Mr. Watson\, Educational Consultant<br />\n41 Worrall Avenue\, Poughkeepsie\, NY 12603<br />\n<br />\nCOMUNICADO DE PRENSA La Hudson Valley Success Academy es una nueva propuesta de escuela p&uacute\;blica ch&aacute\;rter que actualmente se encuentra en el proceso de solicitar la opini&oacute\;n p&uacute\;blica de los residentes de la Ciudad de Poughkeepsie y del condado de Dutchess en general. Estaremos realizando una serie de eventos abiertos a todos los miembros de la comunidad. Estos encuentros forman parte de los requisitos del proceso de la &quot\;Carta de Intenci&oacute\;n&quot\; de la aplicaci&oacute\;n por parte de los Fideicomisarios de SUNY responsables de las aprobaciones de las Escuelas Ch&aacute\;rter en el estado de Nueva York. &Uacute\;nase a nuestros foros de di&aacute\;logo p&uacute\;blico para obtener mayor informaci&oacute\;n acerca de nuestro enfoque transformador de la educaci&oacute\;n y para poder interactuar con nuestro equipo con sus aportes\, comentarios y sugerencias. Nombre Propuesto de la Escuela Ch&aacute\;rter: The Hudson Valley Success Academy Propuesta de Fecha de Lanzamiento: El oto&ntilde\;o del 2019 Lugar: La Ciudad de Poughkeepsie Poblaci&oacute\;n estudiantil objetivo: *Estudiantes con necesidades especiales *Estudiantes del ingl&eacute\;s como segundo idioma *Estudiantes de educaci&oacute\;n general *Estudiantes avanzados Grados propuestos para la inscripci&oacute\;n inicial: K-6 Matr&iacute\;cula total: 300 estudiantes NUESTRO 1er FORO DE LA COMUNIDAD Ubicaci&oacute\;n: Hudson Valley Community Center 110 Grand Street\, Poughkeepsie\, NY Fecha: 19 de enero de 2018 Hora: 6:00 p.m. a 7:30 p.m. Se proporcionar&aacute\;n formularios para comentarios p&uacute\;blicos NUESTRO 2&ordm\; FORO DE LA COMUNIDAD Ubicaci&oacute\;n: River Station Restaurant (segundo piso) 1 North Water Street\, Poughkeepsie\, NY Fecha: domingo\, 28 de enero de 2018 Hora: 1:30 p.m. a 3:00 p.m. Se proporcionar&aacute\;n formularios para comentarios p&uacute\;blicos Confirmar su presencia con el Consultor Educativo: RobertWatson@thehudsonvalleysuccessacademy.com Para obtener m&aacute\;s informaci&oacute\;n y compartir comentarios adicionales\, visite nuestro sitio web: thehudsonvalleysuccessacademy.com Comentarios p&uacute\;blicos escritos se pueden enviar a: C / O Sr. Watson\, consultor educativo\, 41 Worrall Avenue\, Poughkeepsie\, NY 12603
LOCATION:River Station Restaurant (upstairs) 1 North Water Street Poughkeepsie\, NY
UID:e.2770.10476705
SEQUENCE:3
DTSTAMP:20260426T005116Z
URL:https://business.dcrcoc.org/events/details/the-hudson-valley-success-academy-charter-school-public-input-forum-10476705
END:VEVENT

END:VCALENDAR
