BEGIN:VCALENDAR
VERSION:2.0
PRODID:-//ChamberMaster//Event Calendar 2.0//EN
METHOD:PUBLISH
X-PUBLISHED-TTL:P3D
REFRESH-INTERVAL:P3D
CALSCALE:GREGORIAN
BEGIN:VEVENT
DTSTART:20180208T230000Z
DTEND:20180209T003000Z
X-MICROSOFT-CDO-ALLDAYEVENT:FALSE
SUMMARY:The Hudson Valley Success Academy Charter School Public Input Forum
DESCRIPTION:We need your Input and Feedback\n\n \n\nThe Hudson Valley Success Academy is a proposed new FREE Public Charter School that is currently in the process of soliciting public input and comments from the residents of the City of Poughkeepsie and Dutchess County at-large. We are organizing upcoming outreach events that will be open to all community members and form part of the requirements of the application's "Letter of Intent" process by the SUNY Trustees responsible for Charter School approvals in New York State.\n\n \n\nPlease join our public information forums to learn more about our approach to transformative education and engage us in person with your invaluable input\, comments and suggestions.\n\n                                                                                \n\nProposed Charter School Name:  The Hudson Valley Success Academy Charter School\n\nProposed School Opening: Fall of 2019\n\nIntended Location: City of Poughkeepsie \n\nTarget Student Population:\n\n*Special Needs Learners *English Language Learners *General Education Learners\n\n*Challenged Learners *Advanced Learners \n\nProposed Grades and Enrollment: Grades K-6\n\nTotal enrollment: 300 Students\n\n \n\nOUR 3rd COMMUNITY FORUM\n\nLocation: Hudson Valley Community Center\n\n110 South Grand Avenue\, Poughkeepsie\, NY\n\nDate:  Thursday\, February 8\, 2018\n\nTime: 6:00pm to 7:30pm\n\nPublic comment forms will be provided\n\n \n\nOUR 4th COMMUNITY FORUM\n\nLocation: Catharine Street Community Center\n\n69 Catharine Street\, Poughkeepsie\, NY\n\nDate: Monday\, February 19\, 2018\n\nTime: 6pm to 7:30pm\n\nPublic comment forms will be provided\n\n \n\nRSVP with Educational Consultant: RobertWatson@thehudsonvalleysuccessacademy.com\n\nFor additional information and comments\, please visit our website: thehudsonvalleysuccessacademy.com\n\nAny written public input or comments can be sent to:\n\nC/O Mr. Watson\, Educational Consultant\, 41 Worrall Avenue\, Poughkeepsie\, NY 12603\n\nWe need your Input and Comments\n\nLa Hudson Valley Success Academy es una nueva propuesta de escuela p blica ch rter que actualmente se encuentra en el proceso de solicitar la opini n p blica de los residentes de la Ciudad de Poughkeepsie y del condado de Dutchess en general. Estaremos realizando una serie de eventos abiertos a todos los miembros de la comunidad. Estos encuentros forman parte de los requisitos del proceso de la "Carta de Intenci n" de la aplicaci n por parte de los Fideicomisarios de SUNY responsables de las aprobaciones de las Escuelas Ch rter en el estado de Nueva York.\n\n \n\n nase a nuestros foros de di logo p blico para obtener mayor informaci n acerca de nuestro enfoque transformador de la educaci n y para poder interactuar con nuestro equipo con sus aportes\, comentarios y sugerencias.                                                                                 \n\nNombre Propuesto de la Escuela Ch rter: The Hudson Valley Success Academy Charter School\n\nPropuesta de Fecha de Lanzamiento: El oto o del 2019\n\nLugar: La Ciudad de Poughkeepsie \n\nPoblaci n estudiantil objetivo:\n\n*Estudiantes con necesidades especiales *Estudiantes del ingl s como segundo idioma \n\n*Estudiantes de educaci n general *Estudiantes avanzados \n\nGrados propuestos para la inscripci n inicial: K-6\n\nMatr cula total: 300 estudiantes \n\nNUESTRO 3rd FORO DE LA COMUNIDAD\n\nUbicaci n: Hudson Valley Community Center\n\n110 South Grand Avenue\, Poughkeepsie\, NY\n\n Fecha: 8 de febrero de 2018\n\nHora: 6:00 p.m. a 7:30 p.m.\n\nSe proporcionar n formularios para comentarios p blicos\n\n \n\nNUESTRO 4th FORO DE LA COMUNIDAD\n\nUbicaci n: Catharine Street Community Center\n\n69 Catharine Street\, Poughkeepsie\, NY\n\nFecha: 19 de febrero de 2018\n\nHora: 6:00 p.m. a 7:30p.m.\n\nSe proporcionar n formularios para comentarios p blicos\n\n \n\nConfirmar su presencia con el Consultor Educativo: RobertWatson@thehudsonvalleysuccessacademy.com\n\nPara obtener m s informaci n y compartir comentarios adicionales\, visite nuestro sitio web: thehudsonvalleysuccessacademy.com \n\nComentarios p blicos escritos se pueden enviar a:\n\nC / O Sr. Watson\, consultor educativo\, 41 Worrall Avenue\, Poughkeepsie\, NY 12603
X-ALT-DESC;FMTTYPE=text/html:<strong><span style="background:white\;"><span style="color:#222222\;"><span style="font-family:times new roman\,serif\;"><span style="font-size:26.0pt\;">We need your Input and Feedback</span></span></span></span></strong><br />\n&nbsp\;<br />\n<span style="background:white\;"><span style="color:#222222\;"><span style="font-family:times new roman\,serif\;"><span style="font-size:12.0pt\;">The Hudson Valley Success Academy is a proposed new FREE Public Charter School that is currently in the process of <strong>soliciting public input and comments </strong>from the residents of the City of Poughkeepsie and Dutchess County at-large. We are organizing upcoming outreach events that will be open to all community members and form part of the requirements of the application&rsquo\;s &ldquo\;Letter of Intent&rdquo\; process by the SUNY Trustees responsible for Charter School approvals in New York State.</span></span></span></span><br />\n&nbsp\;<br />\n<span style="background:white\;"><span style="color:#222222\;"><span style="font-family:times new roman\,serif\;"><span style="font-size:12.0pt\;">Please join our public information forums to learn more about our approach to transformative education and engage us in person with your invaluable input\, comments and suggestions.</span></span></span></span><br />\n&nbsp\;&nbsp\;&nbsp\;&nbsp\;&nbsp\;&nbsp\;&nbsp\;&nbsp\;&nbsp\;&nbsp\;&nbsp\;&nbsp\;&nbsp\;&nbsp\;&nbsp\;&nbsp\;&nbsp\;&nbsp\;&nbsp\;&nbsp\;&nbsp\;&nbsp\;&nbsp\;&nbsp\;&nbsp\;&nbsp\;&nbsp\;&nbsp\;&nbsp\;&nbsp\;&nbsp\;&nbsp\;&nbsp\;&nbsp\;&nbsp\;&nbsp\;&nbsp\;&nbsp\;&nbsp\;&nbsp\;&nbsp\;&nbsp\;&nbsp\;&nbsp\;&nbsp\;&nbsp\;&nbsp\;&nbsp\;&nbsp\;&nbsp\;&nbsp\;&nbsp\;&nbsp\;&nbsp\;&nbsp\;&nbsp\;&nbsp\;&nbsp\;&nbsp\;&nbsp\;&nbsp\;&nbsp\;&nbsp\;&nbsp\;&nbsp\;&nbsp\;&nbsp\;&nbsp\;&nbsp\;&nbsp\;&nbsp\;&nbsp\;&nbsp\;&nbsp\;&nbsp\;&nbsp\;&nbsp\;&nbsp\;&nbsp\;&nbsp\;<br />\n<strong><span style="background:white\;"><span style="color:#222222\;"><span style="font-family:times new roman\,serif\;"><span style="font-size:12.0pt\;">Proposed Charter School Name:&nbsp\; </span></span></span></span></strong><span style="background:white\;"><span style="color:#222222\;"><span style="font-family:times new roman\,serif\;"><span style="font-size:12.0pt\;">The Hudson Valley Success Academy Charter School</span></span></span></span><br />\n<strong><span style="background:white\;"><span style="color:#222222\;"><span style="font-family:times new roman\,serif\;"><span style="font-size:12.0pt\;">Proposed School Opening</span></span></span></span></strong><span style="background:white\;"><span style="color:#222222\;"><span style="font-family:times new roman\,serif\;"><span style="font-size:12.0pt\;">: Fall of 2019</span></span></span></span><br />\n<strong><span style="background:white\;"><span style="color:#222222\;"><span style="font-family:times new roman\,serif\;"><span style="font-size:12.0pt\;">Intended Location:</span></span></span></span></strong><span style="background:white\;"><span style="color:#222222\;"><span style="font-family:times new roman\,serif\;"><span style="font-size:12.0pt\;"> City of Poughkeepsie </span></span></span></span><br />\n<strong><span style="background:white\;"><span style="color:#222222\;"><span style="font-family:times new roman\,serif\;"><span style="font-size:12.0pt\;">Target Student Population:</span></span></span></span></strong><br />\n<span style="background:white\;"><span style="color:#222222\;"><span style="font-family:times new roman\,serif\;"><span style="font-size:12.0pt\;">*Special Needs Learners</span></span></span></span><span style="background:white\;"><span style="color:#222222\;"><span style="font-size:12.0pt\;"> *</span></span></span><span style="background:white\;"><span style="color:#222222\;"><span style="font-family:times new roman\,serif\;"><span style="font-size:12.0pt\;">English Language Learners</span></span></span></span><span style="background:white\;"><span style="color:#222222\;"><span style="font-size:12.0pt\;"> *</span></span></span><span style="background:white\;"><span style="color:#222222\;"><span style="font-family:times new roman\,serif\;"><span style="font-size:12.0pt\;">General Education Learners</span></span></span></span><br />\n<span style="background:white\;"><span style="color:#222222\;"><span style="font-family:times new roman\,serif\;"><span style="font-size:12.0pt\;">*Challenged Learners</span></span></span></span><span style="background:white\;"><span style="color:#222222\;"><span style="font-size:12.0pt\;"> *</span></span></span><span style="background:white\;"><span style="color:#222222\;"><span style="font-family:times new roman\,serif\;"><span style="font-size:12.0pt\;">Advanced Learners </span></span></span></span><br />\n<strong><span style="background:white\;"><span style="color:#222222\;"><span style="font-family:times new roman\,serif\;"><span style="font-size:12.0pt\;">Proposed Grades and Enrollment</span></span></span></span></strong><span style="background:white\;"><span style="color:#222222\;"><span style="font-family:times new roman\,serif\;"><span style="font-size:12.0pt\;">: Grades K-6</span></span></span></span><br />\n<strong><span style="background:white\;"><span style="color:#222222\;"><span style="font-family:times new roman\,serif\;"><span style="font-size:12.0pt\;">Total enrollment: </span></span></span></span></strong><span style="background:white\;"><span style="color:#222222\;"><span style="font-family:times new roman\,serif\;"><span style="font-size:12.0pt\;">300 Students</span></span></span></span><br />\n&nbsp\;<br />\n<strong><span style="background:white\;"><span style="color:#222222\;"><span style="font-family:times new roman\,serif\;"><span style="font-size:12.0pt\;">OUR 3<sup>rd</sup> COMMUNITY FORUM</span></span></span></span></strong><br />\n<span style="background:white\;"><span style="color:#222222\;"><span style="font-family:times new roman\,serif\;"><span style="font-size:12.0pt\;">Location: <strong><u>Hudson Valley Community Center</u></strong></span></span></span></span><br />\n<span style="background:white\;"><span style="color:#222222\;"><span style="font-family:times new roman\,serif\;"><span style="font-size:12.0pt\;">110 South Grand Avenue\, Poughkeepsie\, NY</span></span></span></span><br />\n<span style="background:white\;"><span style="color:#222222\;"><span style="font-family:times new roman\,serif\;"><span style="font-size:12.0pt\;">Date:&nbsp\; Thursday\, <strong>February 8\, 2018</strong></span></span></span></span><br />\n<span style="background:white\;"><span style="color:#222222\;"><span style="font-family:times new roman\,serif\;"><span style="font-size:12.0pt\;">Time: 6:00pm to 7:30pm</span></span></span></span><br />\n<span style="background:white\;"><span style="color:#222222\;"><span style="font-family:times new roman\,serif\;"><span style="font-size:12.0pt\;">Public comment forms will be provided</span></span></span></span><br />\n&nbsp\;<br />\n<strong><span style="background:white\;"><span style="color:#222222\;"><span style="font-family:times new roman\,serif\;"><span style="font-size:12.0pt\;">OUR 4<sup>th</sup> COMMUNITY FORUM</span></span></span></span></strong><br />\n<span style="background:white\;"><span style="color:#222222\;"><span style="font-family:times new roman\,serif\;"><span style="font-size:12.0pt\;">Location: <strong><u>Catharine Street Community Center</u></strong></span></span></span></span><br />\n<span style="background:white\;"><span style="color:#222222\;"><span style="font-family:times new roman\,serif\;"><span style="font-size:12.0pt\;">69 Catharine Street\, Poughkeepsie\, NY</span></span></span></span><br />\n<span style="background:white\;"><span style="color:#222222\;"><span style="font-family:times new roman\,serif\;"><span style="font-size:12.0pt\;">Date: Monday\, <strong>February 19\, 2018</strong></span></span></span></span><br />\n<span style="background:white\;"><span style="color:#222222\;"><span style="font-family:times new roman\,serif\;"><span style="font-size:12.0pt\;">Time: 6pm to 7:30pm</span></span></span></span><br />\n<span style="background:white\;"><span style="color:#222222\;"><span style="font-family:times new roman\,serif\;"><span style="font-size:12.0pt\;">Public comment forms will be provided</span></span></span></span><br />\n&nbsp\;<br />\n<strong><span style="background:white\;"><span style="color:#222222\;"><span style="font-family:times new roman\,serif\;"><span style="font-size:12.0pt\;">RSVP</span></span></span></span></strong><span style="background:white\;"><span style="color:#222222\;"><span style="font-family:times new roman\,serif\;"><span style="font-size:12.0pt\;"> with Educational Consultant: </span></span></span></span><span style="background:white\;"><span style="color:#1155CC\;"><span style="font-family:times new roman\,serif\;"><span style="font-size:12.0pt\;">RobertWatson@thehudsonvalleysuccessacademy.com</span></span></span></span><br />\n<strong><span style="background:white\;"><span style="color:#222222\;"><span style="font-family:times new roman\,serif\;"><span style="font-size:12.0pt\;">For additional information and comments\, please visit our website:</span></span></span></span></strong> <span style="font-size:12.0pt\;"><a href="http://thehudsonvalleysuccessacademy.com/"><strong><span style="background:white\;"><span style="color:#1155CC\;"><span style="font-family:times new roman\,serif\;">thehudsonvalleysuccessacademy.com</span></span></span></strong></a></span><br />\n<strong><span style="background:white\;"><span style="color:#222222\;"><span style="font-family:times new roman\,serif\;"><span style="font-size:12.0pt\;">Any written public input or comments can be sent to:</span></span></span></span></strong><br />\n<span style="background:white\;"><span style="color:#222222\;"><span style="font-family:times new roman\,serif\;"><span style="font-size:12.0pt\;">C/O Mr. Watson\, Educational Consultant\,</span></span></span></span> <a href="https://maps.google.com/?q=41+Worrall+Avenue\,+Poughkeepsie\,+NY+12603&amp\;entry=gmail&amp\;source=g"><span style="background:white\;"><span style="color:#1155CC\;"><span style="font-family:times new roman\,serif\;"><span style="font-size:12.0pt\;">41 Worrall Avenue\, Poughkeepsie\, NY 12603</span></span></span></span></a><br />\n<strong><span style="background:white\;"><span style="color:#222222\;"><span style="font-family:times new roman\,serif\;"><span style="font-size:18.0pt\;">We need your Input and Comments</span></span></span></span></strong><br />\n<span style="background:white\;"><span style="color:#222222\;"><span style="font-family:times new roman\,serif\;"><span style="font-size:12.0pt\;">La Hudson Valley Success Academy es una nueva propuesta de escuela p&uacute\;blica ch&aacute\;rter que actualmente se encuentra en el <strong>proceso de solicitar la opini&oacute\;n p&uacute\;blica</strong> de los residentes de la Ciudad de Poughkeepsie y del condado de Dutchess en general. Estaremos realizando una serie de eventos abiertos a todos los miembros de la comunidad. Estos encuentros forman parte de los requisitos del proceso de la &quot\;Carta de Intenci&oacute\;n&quot\; de la aplicaci&oacute\;n por parte de los Fideicomisarios de SUNY responsables de las aprobaciones de las Escuelas Ch&aacute\;rter en el estado de Nueva York.</span></span></span></span><br />\n&nbsp\;<br />\n<span style="background:white\;"><span style="color:#222222\;"><span style="font-family:times new roman\,serif\;"><span style="font-size:12.0pt\;">&Uacute\;nase a nuestros foros de di&aacute\;logo p&uacute\;blico para obtener mayor informaci&oacute\;n acerca de nuestro enfoque transformador de la educaci&oacute\;n y para poder interactuar con nuestro equipo con sus aportes\, comentarios y sugerencias.&nbsp\;&nbsp\;&nbsp\;&nbsp\;&nbsp\;&nbsp\;&nbsp\;&nbsp\;&nbsp\;&nbsp\;&nbsp\;&nbsp\;&nbsp\;&nbsp\;&nbsp\;&nbsp\;&nbsp\;&nbsp\;&nbsp\;&nbsp\;&nbsp\;&nbsp\;&nbsp\;&nbsp\;&nbsp\;&nbsp\;&nbsp\;&nbsp\;&nbsp\;&nbsp\;&nbsp\;&nbsp\;&nbsp\;&nbsp\;&nbsp\;&nbsp\;&nbsp\;&nbsp\;&nbsp\;&nbsp\;&nbsp\;&nbsp\;&nbsp\;&nbsp\;&nbsp\;&nbsp\;&nbsp\;&nbsp\;&nbsp\;&nbsp\;&nbsp\;&nbsp\;&nbsp\;&nbsp\;&nbsp\;&nbsp\;&nbsp\;&nbsp\;&nbsp\;&nbsp\;&nbsp\;&nbsp\;&nbsp\;&nbsp\;&nbsp\;&nbsp\;&nbsp\;&nbsp\;&nbsp\;&nbsp\;&nbsp\;&nbsp\;&nbsp\;&nbsp\;&nbsp\;&nbsp\;&nbsp\;&nbsp\;&nbsp\;&nbsp\; </span></span></span></span><br />\n<strong><span style="background:white\;"><span style="color:#222222\;"><span style="font-family:times new roman\,serif\;"><span style="font-size:12.0pt\;">Nombre Propuesto de la Escuela Ch&aacute\;rter</span></span></span></span></strong><span style="background:white\;"><span style="color:#222222\;"><span style="font-family:times new roman\,serif\;"><span style="font-size:12.0pt\;">: The Hudson Valley Success Academy Charter School</span></span></span></span><br />\n<strong><span style="background:white\;"><span style="color:#222222\;"><span style="font-family:times new roman\,serif\;"><span style="font-size:12.0pt\;">Propuesta de Fecha de Lanzamiento</span></span></span></span></strong><span style="background:white\;"><span style="color:#222222\;"><span style="font-family:times new roman\,serif\;"><span style="font-size:12.0pt\;">: El oto&ntilde\;o del 2019</span></span></span></span><br />\n<strong><span style="background:white\;"><span style="color:#222222\;"><span style="font-family:times new roman\,serif\;"><span style="font-size:12.0pt\;">Lugar:</span></span></span></span></strong><span style="background:white\;"><span style="color:#222222\;"><span style="font-family:times new roman\,serif\;"><span style="font-size:12.0pt\;"> La Ciudad de Poughkeepsie </span></span></span></span><br />\n<strong><span style="background:white\;"><span style="color:#222222\;"><span style="font-family:times new roman\,serif\;"><span style="font-size:12.0pt\;">Poblaci&oacute\;n estudiantil objetivo:</span></span></span></span></strong><br />\n<span style="background:white\;"><span style="color:#222222\;"><span style="font-family:times new roman\,serif\;"><span style="font-size:12.0pt\;">*Estudiantes con necesidades especiales</span></span></span></span><span style="background:white\;"><span style="color:#222222\;"><span style="font-size:12.0pt\;"> *</span></span></span><span style="background:white\;"><span style="color:#222222\;"><span style="font-family:times new roman\,serif\;"><span style="font-size:12.0pt\;">Estudiantes del ingl&eacute\;s como segundo idioma </span></span></span></span><br />\n<span style="background:white\;"><span style="color:#222222\;"><span style="font-family:times new roman\,serif\;"><span style="font-size:12.0pt\;">*Estudiantes de educaci&oacute\;n general</span></span></span></span><span style="background:white\;"><span style="color:#222222\;"><span style="font-size:12.0pt\;"> *</span></span></span><span style="background:white\;"><span style="color:#222222\;"><span style="font-family:times new roman\,serif\;"><span style="font-size:12.0pt\;">Estudiantes avanzados </span></span></span></span><br />\n<strong><span style="background:white\;"><span style="color:#222222\;"><span style="font-family:times new roman\,serif\;"><span style="font-size:12.0pt\;">Grados propuestos para la inscripci&oacute\;n inicial</span></span></span></span></strong><span style="background:white\;"><span style="color:#222222\;"><span style="font-family:times new roman\,serif\;"><span style="font-size:12.0pt\;">: K-6</span></span></span></span><br />\n<strong><span style="background:white\;"><span style="color:#222222\;"><span style="font-family:times new roman\,serif\;"><span style="font-size:12.0pt\;">Matr&iacute\;cula total:</span></span></span></span></strong><span style="background:white\;"><span style="color:#222222\;"><span style="font-family:times new roman\,serif\;"><span style="font-size:12.0pt\;"> 300 estudiantes </span></span></span></span><br />\n<strong><span style="background:white\;"><span style="color:#222222\;"><span style="font-family:times new roman\,serif\;"><span style="font-size:12.0pt\;">NUESTRO 3rd FORO DE LA COMUNIDAD</span></span></span></span></strong><br />\n<span style="background:white\;"><span style="color:#222222\;"><span style="font-family:times new roman\,serif\;"><span style="font-size:12.0pt\;">Ubicaci&oacute\;n: Hudson Valley Community Center</span></span></span></span><br />\n<span style="background:white\;"><span style="color:#222222\;"><span style="font-family:times new roman\,serif\;"><span style="font-size:12.0pt\;">110 South Grand Avenue\, Poughkeepsie\, NY</span></span></span></span><br />\n<span style="background:white\;"><span style="color:#222222\;"><span style="font-family:times new roman\,serif\;"><span style="font-size:12.0pt\;">&nbsp\;Fecha: 8 de febrero de 2018</span></span></span></span><br />\n<span style="background:white\;"><span style="color:#222222\;"><span style="font-family:times new roman\,serif\;"><span style="font-size:12.0pt\;">Hora: 6:00 p.m. a 7:30 p.m.</span></span></span></span><br />\n<span style="background:white\;"><span style="color:#222222\;"><span style="font-family:times new roman\,serif\;"><span style="font-size:12.0pt\;">Se proporcionar&aacute\;n formularios para comentarios p&uacute\;blicos</span></span></span></span><br />\n&nbsp\;<br />\n<strong><span style="background:white\;"><span style="color:#222222\;"><span style="font-family:times new roman\,serif\;"><span style="font-size:12.0pt\;">NUESTRO 4th FORO DE LA COMUNIDAD</span></span></span></span></strong><br />\n<span style="background:white\;"><span style="color:#222222\;"><span style="font-family:times new roman\,serif\;"><span style="font-size:12.0pt\;">Ubicaci&oacute\;n: Catharine Street Community Center</span></span></span></span><br />\n<span style="background:white\;"><span style="color:#222222\;"><span style="font-family:times new roman\,serif\;"><span style="font-size:12.0pt\;">69 Catharine Street\, Poughkeepsie\, NY</span></span></span></span><br />\n<span style="background:white\;"><span style="color:#222222\;"><span style="font-family:times new roman\,serif\;"><span style="font-size:12.0pt\;">Fecha: 19 de febrero de 2018</span></span></span></span><br />\n<span style="background:white\;"><span style="color:#222222\;"><span style="font-family:times new roman\,serif\;"><span style="font-size:12.0pt\;">Hora: 6:00 p.m. a 7:30p.m.</span></span></span></span><br />\n<span style="background:white\;"><span style="color:#222222\;"><span style="font-family:times new roman\,serif\;"><span style="font-size:12.0pt\;">Se proporcionar&aacute\;n formularios para comentarios p&uacute\;blicos</span></span></span></span><br />\n&nbsp\;<br />\n<span style="background:white\;"><span style="color:#222222\;"><span style="font-family:times new roman\,serif\;"><span style="font-size:12.0pt\;">Confirmar su presencia con el Consultor Educativo: </span></span></span></span><a href="mailto:RobertWatson@thehudsonvalleysuccessacademy.com"><span style="background:white\;"><span style="color:#1155CC\;"><span style="font-family:times new roman\,serif\;"><span style="font-size:12.0pt\;">RobertWatson@thehudsonvalleysuccessacademy.com</span></span></span></span></a><br />\n<span style="background:white\;"><span style="color:#222222\;"><span style="font-family:times new roman\,serif\;"><span style="font-size:12.0pt\;">Para obtener m&aacute\;s informaci&oacute\;n y compartir comentarios adicionales\, visite nuestro sitio web: thehudsonvalleysuccessacademy.com </span></span></span></span><br />\n<span style="background:white\;"><span style="color:#222222\;"><span style="font-family:times new roman\,serif\;"><span style="font-size:12.0pt\;">Comentarios p&uacute\;blicos escritos se pueden enviar a:</span></span></span></span><br />\n<span style="background:white\;"><span style="color:#222222\;"><span style="font-family:times new roman\,serif\;"><span style="font-size:12.0pt\;">C / O Sr. Watson\, consultor educativo\, 41 Worrall Avenue\, Poughkeepsie\, NY 12603</span></span></span></span>
LOCATION:
UID:e.2770.10476738
SEQUENCE:3
DTSTAMP:20260425T222322Z
URL:https://business.dcrcoc.org/events/details/the-hudson-valley-success-academy-charter-school-public-input-forum-10476738
END:VEVENT

END:VCALENDAR
