BEGIN:VCALENDAR
VERSION:2.0
PRODID:-//ChamberMaster//Event Calendar 2.0//EN
METHOD:PUBLISH
X-PUBLISHED-TTL:P3D
REFRESH-INTERVAL:P3D
CALSCALE:GREGORIAN
BEGIN:VEVENT
DTSTART:20171203T013000Z
DTEND:20171203T040000Z
X-MICROSOFT-CDO-ALLDAYEVENT:FALSE
SUMMARY:The Jason Casterlin Band comes to The Alley Kat!
DESCRIPTION:Don't miss the Hudson Valley's own country heartbreaker Jason Casterlin this Saturday!  \n\n\n\nWith 14 varieties of craft beer on tap\, a fully stocked top shelf bar and an expansive pub menu\, and country crooner Jason Casterlin\, The Alley Kat has all the makings of a perfect Saturday night out!\n\n\n\nCheck out the event details on our Facebook page:\n\nThe Jason Casterlin Band comes to The Alley Kat!
X-ALT-DESC;FMTTYPE=text/html:<span style="color:rgb(75\, 79\, 86)\; font-family:system-ui\,-apple-system\,blinkmacsystemfont\,.sfnstext-regular\,sans-serif\; font-size:14px">Don&#39\;t miss the Hudson Valley&#39\;s own country heartbreaker Jason Casterlin this Saturday!&nbsp\;&nbsp\;</span><br />\n<br />\n<span style="color:rgb(75\, 79\, 86)\; font-family:system-ui\,-apple-system\,blinkmacsystemfont\,.sfnstext-regular\,sans-serif\; font-size:14px">With 14 varieties of craft beer on tap\, a fully stocked top shelf bar and an expansive pub menu\, and country crooner Jason Casterlin\, The Alley Kat has all the makings of a perfect Saturday night out!</span><br />\n<br />\nCheck out the event details on our Facebook page:<br />\n<a href="https://www.facebook.com/events/135538693819938/">The Jason Casterlin Band comes to The Alley Kat!</a>
LOCATION:The Alley Kat 1677 US 9 Wappingers Falls\, New York\, NY 12590
UID:e.2770.10476629
SEQUENCE:3
DTSTAMP:20260426T005250Z
URL:https://business.dcrcoc.org/events/details/the-jason-casterlin-band-comes-to-the-alley-kat-10476629
END:VEVENT

END:VCALENDAR
