BEGIN:VCALENDAR
VERSION:2.0
PRODID:-//ChamberMaster//Event Calendar 2.0//EN
METHOD:PUBLISH
X-PUBLISHED-TTL:P3D
REFRESH-INTERVAL:P3D
CALSCALE:GREGORIAN
BEGIN:VEVENT
DTSTART:20190522T160000Z
DTEND:20190522T170000Z
X-MICROSOFT-CDO-ALLDAYEVENT:FALSE
SUMMARY:The Journey of Business Owners and the Elusive Work/Life Balance
DESCRIPTION:An online discussion with financial advisors about the challenges they faced starting and running their successful financial businesses.\n\n\n\nTopics Includes: \n\n- Money: Where is it coming from? \n\n- Gaps in Employment: Consequences \n\n- Care-giving: Children\, aging parents\n\n- Wage Gap: How do I deal with the reality?\n\n- Wanting to be your own boss: Why? \n\n- Family Time: Who comes first?  What do I do when my spouse and I differ?\n\n- Flexibility: What does that really mean?
X-ALT-DESC;FMTTYPE=text/html:<p><span style="font-size: 16px\;">An online discussion with financial advisors about the challenges they faced starting and running their successful financial businesses.<br />\n<br />\n<u><strong>Topics Includes:&nbsp\;</strong></u><br />\n- Money: Where is it coming from?&nbsp\;<br />\n- Gaps in Employment: Consequences&nbsp\;<br />\n- Care-giving: Children\, aging parents<br />\n- Wage Gap: How do I deal with the reality?<br />\n- Wanting to be your own boss: Why?&nbsp\;<br />\n- Family Time: Who comes first?&nbsp\; What do I do when my spouse and I differ?<br />\n- Flexibility: What does that really mean?</span></p>\n
LOCATION:Webinar
UID:e.2770.10480577
SEQUENCE:3
DTSTAMP:20260423T045821Z
URL:https://business.dcrcoc.org/events/details/the-journey-of-business-owners-and-the-elusive-work-life-balance-10480577
END:VEVENT

END:VCALENDAR
