BEGIN:VCALENDAR
VERSION:2.0
PRODID:-//ChamberMaster//Event Calendar 2.0//EN
METHOD:PUBLISH
X-PUBLISHED-TTL:P3D
REFRESH-INTERVAL:P3D
CALSCALE:GREGORIAN
BEGIN:VEVENT
DTSTART:20190210T210000Z
DTEND:20190210T220000Z
X-MICROSOFT-CDO-ALLDAYEVENT:FALSE
SUMMARY:The Larry Ham Jazz Trio
DESCRIPTION:Join Millbrook resident and Hudson Valley renowned jazz pianist\, Larry Ham\, as he navigates an afternoon of jazz standards and original compositions. Featured on vocals and upright bass\, is the world renowned Nicki Parrott\, who is making her third appearance in Millbrook. Rounding out the trio is drummer\,Tom Melito.
X-ALT-DESC;FMTTYPE=text/html:Join Millbrook resident and Hudson Valley renowned jazz pianist\, Larry Ham\, as he navigates an afternoon of jazz standards and original compositions. Featured on vocals and upright bass\, is the world renowned Nicki Parrott\, who is making her third appearance in Millbrook. Rounding out the trio is drummer\,Tom Melito.
LOCATION:Lyall Memorial Federated Church 30 Maple Avenue\, Millbrook\, NY
UID:e.2770.10480226
SEQUENCE:3
DTSTAMP:20260423T112247Z
URL:https://business.dcrcoc.org/events/details/the-larry-ham-jazz-trio-10480226
END:VEVENT

END:VCALENDAR
