BEGIN:VCALENDAR
VERSION:2.0
PRODID:-//ChamberMaster//Event Calendar 2.0//EN
METHOD:PUBLISH
X-PUBLISHED-TTL:P3D
REFRESH-INTERVAL:P3D
CALSCALE:GREGORIAN
BEGIN:VEVENT
DTSTART:20190501T150000Z
DTEND:20190501T200000Z
X-MICROSOFT-CDO-ALLDAYEVENT:FALSE
SUMMARY:The May Day Invitational +MicroSymposium
DESCRIPTION:We're bringing together a selection of our portfolio for this very special taste gathering as part of our 80th Anniversary Celebration. This liquid + food tasting event is a unique invite only experience to explore what's new from our maker suppliers + customers. Join us as fermenters\, mixologists\, distillers\, foragers\, hopologists and storytellers take over the Spiegel tent during this event to speak and perform on their science + craft. Supplier Makers Pouring : Wine + Spirits Chateau Du Coing Dennings Point Distillery Devona Drinkable Arts Eola Hills Rives Blanques Sans Liege/Groundwork/Richvale/ Fableist Shady Knoll Distillery Terrisson: Durand/Duclaux Trust Cellars Turtle Rock Vineyards Union Sacre Vinovalie/Tarani Windchaser Wine Co. Winebauer Beer + Cider Abandoned Cider Abita Ace Boulevard Chimay Dinkelacker DuClaw Brewing Company DuPont Duvel Flying Monkeys Brewing Co. Founders Brewing Company Hacker Pschorr Harpoon Brewing Hofbrau La Chouffe Lickinghole Creek Liefmans Lion Beer Old Speckled Hen Ommegang Paulaner River Horse Brewing Company Rogue Brewing Company Rootstock Ciderworks Sly Fox Brewing Company Southern Tier Brewing Company Stiegl Sunday Beer Tennants Thomas Hardy UFO Veltins Victory Brewing Company Weihenstephan Zemilla Non Ether GuS Soda Hal's Harney & Sons More Good Syrups Saratoga Sparkling Water
X-ALT-DESC;FMTTYPE=text/html:We&#39\;re bringing together a selection of our portfolio for this very special taste gathering as part of our 80th Anniversary Celebration. This liquid + food tasting event is a unique invite only experience to explore what&#39\;s new from our maker suppliers + customers. Join us as fermenters\, mixologists\, distillers\, foragers\, hopologists and storytellers take over the Spiegel tent during this event to speak and perform on their science + craft. Supplier Makers Pouring : Wine + Spirits Chateau Du Coing Dennings Point Distillery Devona Drinkable Arts Eola Hills Rives Blanques Sans Liege/Groundwork/Richvale/ Fableist Shady Knoll Distillery Terrisson: Durand/Duclaux Trust Cellars Turtle Rock Vineyards Union Sacre Vinovalie/Tarani Windchaser Wine Co. Winebauer Beer + Cider Abandoned Cider Abita Ace Boulevard Chimay Dinkelacker DuClaw Brewing Company DuPont Duvel Flying Monkeys Brewing Co. Founders Brewing Company Hacker Pschorr Harpoon Brewing Hofbrau La Chouffe Lickinghole Creek Liefmans Lion Beer Old Speckled Hen Ommegang Paulaner River Horse Brewing Company Rogue Brewing Company Rootstock Ciderworks Sly Fox Brewing Company Southern Tier Brewing Company Stiegl Sunday Beer Tennants Thomas Hardy UFO Veltins Victory Brewing Company Weihenstephan Zemilla Non Ether GuS Soda Hal&#39\;s Harney &amp\; Sons More Good Syrups Saratoga Sparkling Water
LOCATION:BSP 323 Wall Street Kingston\, NY 12401
UID:e.2770.10480653
SEQUENCE:3
DTSTAMP:20260423T062123Z
URL:https://business.dcrcoc.org/events/details/the-may-day-invitational-microsymposium-10480653
END:VEVENT

END:VCALENDAR
