BEGIN:VCALENDAR
VERSION:2.0
PRODID:-//ChamberMaster//Event Calendar 2.0//EN
METHOD:PUBLISH
X-PUBLISHED-TTL:P3D
REFRESH-INTERVAL:P3D
CALSCALE:GREGORIAN
BEGIN:VEVENT
DTSTART:20171104T133000Z
DTEND:20171104T160000Z
X-MICROSOFT-CDO-ALLDAYEVENT:FALSE
SUMMARY:The Most Important Meal
DESCRIPTION:The Most Important Meal is a breakfast fundraising event to support Hudson Valley Community Services' (HVCS) food and nutrition services. This event will have a casual\, fun atmosphere that harkens back to the Saturday mornings you had as a kid\, while raising funds to help feed hungry people. Guests will enjoy an endless cereal buffet and fill up on the satisfaction that they have helped those in need. HVCS has the only food closet specifically for those living with chronic illnesses that will deliver bags of food or will set up transportation to and from our offices. We are also one of the few food pantries that hand out toiletries and household cleansers items that are very expensive or out of budget for our clients. Most importantly\, our food closets are entirely supported by private donations from caring individuals like you. Date & Time: Saturday\, November 4\, 2017 at 9:30 am Location: Fishkill Recreation Center\, 793 Route 52\, Fishkill Tickets: $30 for individual tickets\, tables of 10 for $200 Every attendee gets a commemorative bowl Endless cereal\, oatmeal\, Dannon yogurt\, toppings\, coffee\, juice and more Silent auction and door prizes
X-ALT-DESC;FMTTYPE=text/html:The Most Important Meal is a breakfast fundraising event to support Hudson Valley Community Services&rsquo\; (HVCS) food and nutrition services. This event will have a casual\, fun atmosphere that harkens back to the Saturday mornings you had as a kid\, while raising funds to help feed hungry people. Guests will enjoy an endless cereal buffet and fill up on the satisfaction that they have helped those in need. HVCS has the only food closet specifically for those living with chronic illnesses that will deliver bags of food or will set up transportation to and from our offices. We are also one of the few food pantries that hand out toiletries and household cleansers&mdash\;items that are very expensive or out of budget for our clients. Most importantly\, our food closets are entirely supported by private donations from caring individuals like you. Date &amp\; Time: Saturday\, November 4\, 2017 at 9:30 am Location: Fishkill Recreation Center\, 793 Route 52\, Fishkill Tickets: $30 for individual tickets\, tables of 10 for $200 Every attendee gets a commemorative bowl Endless cereal\, oatmeal\, Dannon yogurt\, toppings\, coffee\, juice and more Silent auction and door prizes
LOCATION:Fishkill Recreation Center\, 793 Route 52\, Fishkill
UID:e.2770.10476055
SEQUENCE:3
DTSTAMP:20260426T020441Z
URL:https://business.dcrcoc.org/events/details/the-most-important-meal-10476055
END:VEVENT

END:VCALENDAR
