BEGIN:VCALENDAR
VERSION:2.0
PRODID:-//ChamberMaster//Event Calendar 2.0//EN
METHOD:PUBLISH
X-PUBLISHED-TTL:P3D
REFRESH-INTERVAL:P3D
CALSCALE:GREGORIAN
BEGIN:VEVENT
DTSTART:20190712T223000Z
DTEND:20190713T030000Z
X-MICROSOFT-CDO-ALLDAYEVENT:FALSE
SUMMARY:THE NERDS LIVE AT PUTNAM COUNTY GOLF COURSE
DESCRIPTION:IT'S BACK & BETTER THAN EVER! The Friday Night BBQ Live Entertainment Series at Putnam County Golf Course. Our Summer BBQ Series continues on Friday\, July 12th with The Nerds!!! Enjoy the Open Air Friday Night BBQ Series Under the Stars Every Friday Night From May 31st through October (unless noted otherwise). Tickets are available for purchase online for $29 and include a BBQ Buffet and the Show. A Cash Bar will be available throughout the evening. $35 at the Door. We Rock Rain or Shine and take it indoors to our large ballroom during inclement weather. BRING BLANKETS AND CHAIRS
X-ALT-DESC;FMTTYPE=text/html:IT&#39\;S BACK &amp\; BETTER THAN EVER! The Friday Night BBQ Live Entertainment Series at Putnam County Golf Course. Our Summer BBQ Series continues on Friday\, July 12th with The Nerds!!! Enjoy the Open Air Friday Night BBQ Series Under the Stars Every Friday Night From May 31st through October (unless noted otherwise). Tickets are available for purchase online for $29 and include a BBQ Buffet and the Show. A Cash Bar will be available throughout the evening. $35 at the Door. We Rock Rain or Shine and take it indoors to our large ballroom during inclement weather. BRING BLANKETS AND CHAIRS
LOCATION:Putnam County Golf Course
UID:e.2770.10480975
SEQUENCE:3
DTSTAMP:20260423T011703Z
URL:https://business.dcrcoc.org/events/details/the-nerds-live-at-putnam-county-golf-course-10480975
END:VEVENT

END:VCALENDAR
