BEGIN:VCALENDAR
VERSION:2.0
PRODID:-//ChamberMaster//Event Calendar 2.0//EN
METHOD:PUBLISH
X-PUBLISHED-TTL:P3D
REFRESH-INTERVAL:P3D
CALSCALE:GREGORIAN
BEGIN:VEVENT
DTSTART:20190508T173000Z
DTEND:20190508T190000Z
X-MICROSOFT-CDO-ALLDAYEVENT:FALSE
SUMMARY:The Perfect Pie
DESCRIPTION:This Mother's Day\, surprise mom with the gift of a perfect pie. Learn pie making techniques and mindful eating strategies to keep from eating the full pie. ($15)
X-ALT-DESC;FMTTYPE=text/html:This Mother&rsquo\;s Day\, surprise mom with the gift of a perfect pie. Learn pie making techniques and mindful eating strategies to keep from eating the full pie. ($15)
LOCATION:NewYork-Presbyterian Hudson Valley Hospital Chef Peter X. Kelly Teaching Kitchen 1992 Crompond Road Cortlandt Manor\, NY
UID:e.2770.10480694
SEQUENCE:3
DTSTAMP:20260423T044749Z
URL:https://business.dcrcoc.org/events/details/the-perfect-pie-10480694
END:VEVENT

END:VCALENDAR
