BEGIN:VCALENDAR
VERSION:2.0
PRODID:-//ChamberMaster//Event Calendar 2.0//EN
METHOD:PUBLISH
X-PUBLISHED-TTL:P3D
REFRESH-INTERVAL:P3D
CALSCALE:GREGORIAN
BEGIN:VEVENT
DTSTART:20171111T010000Z
DTEND:20171111T040000Z
X-MICROSOFT-CDO-ALLDAYEVENT:FALSE
SUMMARY:The Real Men comes to The Alley Kat!
DESCRIPTION:Check out The Real Men this Friday! Great music in a fabulous\, lively space. The Alley Kat is serving cold drafts\, drink specials\, gourmet pizza\, delicious sandwiches & wraps\, tasty burgers & of course\, comfort apps!\n\n\n\nCheck out the event details on our Facebook page:\n\nThe Real Man comes to The Alley Kat!
X-ALT-DESC;FMTTYPE=text/html:<span style="color:rgb(75\, 79\, 86)\; font-family:sf optimized\,system-ui\,-apple-system\,blinkmacsystemfont\,.sfnstext-regular\,sans-serif\; font-size:14px">Check out The Real Men this Friday! Great music in a fabulous\, lively space. The Alley Kat is serving cold drafts\, drink specials\, gourmet pizza\, delicious sandwiches &amp\; wraps\, tasty burgers &amp\; of course\, comfort apps!</span><br />\n<br />\nCheck out the event details on our Facebook page:<br />\n<a href="https://www.facebook.com/events/484518131918916/">The Real Man comes to The Alley Kat!</a><br />\n&nbsp\;
LOCATION:The Alley Kat 1677 US 9 Wappingers Falls\, New York\, NY 12590
UID:e.2770.10476533
SEQUENCE:3
DTSTAMP:20260426T020807Z
URL:https://business.dcrcoc.org/events/details/the-real-man-comes-to-the-alley-kat-10476533
END:VEVENT

END:VCALENDAR
