BEGIN:VCALENDAR
VERSION:2.0
PRODID:-//ChamberMaster//Event Calendar 2.0//EN
METHOD:PUBLISH
X-PUBLISHED-TTL:P3D
REFRESH-INTERVAL:P3D
CALSCALE:GREGORIAN
BEGIN:VEVENT
DTSTART:20180210T180000Z
DTEND:20180210T220000Z
X-MICROSOFT-CDO-ALLDAYEVENT:FALSE
SUMMARY:The Secret Life of YOUR New Pet
DESCRIPTION:Join the Orange County Citizens Foundation as they kick off their 'Exploring Orange' Series. The 'Exploring Orange' Series is the Citizens Foundations' way of introducing (or re-introducing) you to Orange County and highlighting all the great things that Orange County has to offer. On Saturday\, February 10th\, the Citizens Foundation will be co-hosting an Adopt-A-Pet Event with the Hudson Valley SPCA. There will be adoptable rescues at the Seligmann Center (23 White Oak Dr. Sugar Loaf NY) and a free screening of 'The Secret Life of Pets' with hot chocolate and cookies from Hudson Street Cafe. This event is free and open to the public.
X-ALT-DESC;FMTTYPE=text/html:Join the Orange County Citizens Foundation as they kick off their &#39\;Exploring Orange&#39\; Series. The &#39\;Exploring Orange&#39\; Series is the Citizens Foundations&#39\; way of introducing (or re-introducing) you to Orange County and highlighting all the great things that Orange County has to offer. On Saturday\, February 10th\, the Citizens Foundation will be co-hosting an Adopt-A-Pet Event with the Hudson Valley SPCA. There will be adoptable rescues at the Seligmann Center (23 White Oak Dr. Sugar Loaf NY) and a free screening of &#39\;The Secret Life of Pets&#39\; with hot chocolate and cookies from Hudson Street Cafe. This event is free and open to the public.
LOCATION:Seligmann Center 23 White Oak Dr Sugar Loaf\, NY 10981
UID:e.2770.10476715
SEQUENCE:3
DTSTAMP:20260425T222716Z
URL:https://business.dcrcoc.org/events/details/the-secret-life-of-your-new-pet-10476715
END:VEVENT

END:VCALENDAR
