BEGIN:VCALENDAR
VERSION:2.0
PRODID:-//ChamberMaster//Event Calendar 2.0//EN
METHOD:PUBLISH
X-PUBLISHED-TTL:P3D
REFRESH-INTERVAL:P3D
CALSCALE:GREGORIAN
BEGIN:VEVENT
DTSTART:20171015T000000Z
DTEND:20171015T030000Z
X-MICROSOFT-CDO-ALLDAYEVENT:FALSE
SUMMARY:The Temptations and the Four Tops
DESCRIPTION:The Temptations and the Four Tops Saturday\, October 14\, 2017 8:00pm Tickets: $82.50\, $72.50\,& $52.50 reserved seating. Tickets will go on sale Friday\, May 26 at 10:00am at the Civic Center box office\, all Ticketmaster locations\, charge by phone 1-800-745-3000 or online at Ticketmaster.com.
X-ALT-DESC;FMTTYPE=text/html:The Temptations and the Four Tops Saturday\, October 14\, 2017 8:00pm Tickets: $82.50\, $72.50\,&amp\; $52.50 reserved seating. Tickets will go on sale Friday\, May 26 at 10:00am at the Civic Center box office\, all Ticketmaster locations\, charge by phone 1-800-745-3000 or online at Ticketmaster.com.
LOCATION:Mid-Hudson Civic Center
UID:e.2770.10475842
SEQUENCE:3
DTSTAMP:20260426T033438Z
URL:https://business.dcrcoc.org/events/details/the-temptations-and-the-four-tops-10475842
END:VEVENT

END:VCALENDAR
