BEGIN:VCALENDAR
VERSION:2.0
PRODID:-//ChamberMaster//Event Calendar 2.0//EN
METHOD:PUBLISH
X-PUBLISHED-TTL:P3D
REFRESH-INTERVAL:P3D
CALSCALE:GREGORIAN
BEGIN:VEVENT
DTSTART:20180924T220000Z
DTEND:20180925T000000Z
X-MICROSOFT-CDO-ALLDAYEVENT:FALSE
SUMMARY:Think Dutchess Alliance for Business - Alternative Lending Your Access to Capital
DESCRIPTION:A panel discussion of resources to finance your small business!\nRepresentatives from different leading agencies  will be available to describe the   opportunities for you to obtain funding to start your business.  Afterwards\, meet and speak with the panelists.
X-ALT-DESC;FMTTYPE=text/html:<p><em><span style="font-size:20px"><span style="font-family:calibri">A panel discussion of resources to finance your small business!</span></span></em></p>\n<span style="font-size:18px"><span style="font-family:calibri">Representatives from different leading agencies&nbsp\; will be available to describe the&nbsp\;&nbsp\; opportunities for you to obtain funding to start your business.&nbsp\; Afterwards\, meet and speak with the panelists. </span></span><br />\n&nbsp\;
LOCATION:Think Dutchess Alliance for Business 3 Neptune Road - Conference Room A - Poughkeepsie - NY - 12601
UID:e.2770.10479348
SEQUENCE:3
DTSTAMP:20260425T131556Z
URL:https://business.dcrcoc.org/events/details/think-dutchess-alliance-for-business-alternative-lending-your-access-to-capital-10479348
END:VEVENT

END:VCALENDAR
