BEGIN:VCALENDAR
VERSION:2.0
PRODID:-//ChamberMaster//Event Calendar 2.0//EN
METHOD:PUBLISH
X-PUBLISHED-TTL:P3D
REFRESH-INTERVAL:P3D
CALSCALE:GREGORIAN
BEGIN:VEVENT
DTSTART:20181015T220000Z
DTEND:20181016T010000Z
X-MICROSOFT-CDO-ALLDAYEVENT:FALSE
SUMMARY:Think Dutchess Alliance for Business - Today's Top Tools for Efficiency
DESCRIPTION:Come discover the tools to do more with less!  We will be discussing the options to help you compete effectively in this rapidly changing environment.\n \n\nTopics include:\n\n\n	\n	Where do I start?\n	\n	\n	What is a CRM?\n	\n	\n	Accounting tools for small business\n	\n	\n	Project management vs task management software\n	\n	\n	Social media automation\n	\n\n\nSeating is limited so reserve your spot today!
X-ALT-DESC;FMTTYPE=text/html:<h3><br />\nCome discover the tools to do more with less!&nbsp\; We will be discussing the options to help you compete effectively in this rapidly changing environment.</h3>\n&nbsp\;\n\n<h4><u>Topics include</u>:</h4>\n\n<ul>\n	<li>\n	<h4>Where do I start?</h4>\n	</li>\n	<li>\n	<h4>What is a CRM?</h4>\n	</li>\n	<li>\n	<h4>Accounting tools for small business</h4>\n	</li>\n	<li>\n	<h4>Project management vs task management software</h4>\n	</li>\n	<li>\n	<h4>Social media automation</h4>\n	</li>\n</ul>\n\n<h3>Seating is limited so reserve your spot today!</h3>\n
LOCATION:Think Dutchess Alliance for Business 3 Neptune Road Suite A21 Poughkeepsie\, NY 12601
UID:e.2770.10479437
SEQUENCE:3
DTSTAMP:20260425T114825Z
URL:https://business.dcrcoc.org/events/details/think-dutchess-alliance-for-business-today-s-top-tools-for-efficiency-10479437
END:VEVENT

END:VCALENDAR
