BEGIN:VCALENDAR
VERSION:2.0
PRODID:-//ChamberMaster//Event Calendar 2.0//EN
METHOD:PUBLISH
X-PUBLISHED-TTL:P3D
REFRESH-INTERVAL:P3D
CALSCALE:GREGORIAN
BEGIN:VEVENT
DTSTART:20171025T170000Z
DTEND:20171025T220000Z
X-MICROSOFT-CDO-ALLDAYEVENT:FALSE
SUMMARY:Think Local First Business & Hospitality Expo
DESCRIPTION:Annual product and service showcase. Come build meaningful business-to-business connections!\n\n\n\nThe Business & Hospitality Expo puts your company and products in front of customers and prospects. We know your main objectives are to generate awareness and ultimately\, to make a sale\, but this show also gives you the opportunity to gain customer feedback\, gather intelligence on competitors and industry trends\, introduce employees\, build partnerships and alliances\, and increase your credibility and reputation.\n\nARE YOU IN?\n\nFor complete info\, to download the registration form\, and to see all of this year's special features and generous sponsors\, CLICK HERE.
X-ALT-DESC;FMTTYPE=text/html:<p>Annual product and service showcase. Come build meaningful business-to-business connections!<br />\n<br />\nThe Business &amp\; Hospitality Expo puts your company and products in front of customers and prospects. We know your main objectives are to generate awareness and ultimately\, to make a sale\, but this show also gives you the opportunity to gain customer feedback\, gather intelligence on competitors and industry trends\, introduce employees\, build partnerships and alliances\, and increase your credibility and reputation.</p>\n\n<p><strong>ARE YOU IN?</strong></p>\n\n<p><strong>For complete info\, to download the registration form\, and to see all of this year&#39\;s special features and generous sponsors\, <a href="/businessexpo" target="_blank">CLICK HERE</a>.</strong></p>\n
LOCATION:Mid-Hudson Civic Center 14 Civic Center Plaza Poughkeepsie\, NY 12601
UID:e.2770.10473553
SEQUENCE:3
DTSTAMP:20260426T033448Z
URL:https://business.dcrcoc.org/events/details/think-local-first-business-hospitality-expo-10473553
END:VEVENT

END:VCALENDAR
