BEGIN:VCALENDAR
VERSION:2.0
PRODID:-//ChamberMaster//Event Calendar 2.0//EN
METHOD:PUBLISH
X-PUBLISHED-TTL:P3D
REFRESH-INTERVAL:P3D
CALSCALE:GREGORIAN
BEGIN:VEVENT
DTSTART:20181024T170000Z
DTEND:20181024T220000Z
X-MICROSOFT-CDO-ALLDAYEVENT:FALSE
SUMMARY:Think Local First Business & Hospitality Expo
DESCRIPTION:ARE YOU IN?\n\n\n\nAnnual product and service showcase. Come build meaningful business-to-business connections!\n\n\n\nThe Business & Hospitality Expo puts your company and products in front of customers and prospects. We know your main objectives are to generate awareness and ultimately\, to make a sale\, but this show also gives you the opportunity to gain customer feedback\, gather intelligence on competitors and industry trends\, introduce employees\, build partnerships and alliances\, and increase your credibility and reputation.\n\n\n\nThank you to the City of Poughkeepsie for complimentary parking during the event in the municipal garage across the street.
X-ALT-DESC;FMTTYPE=text/html:<p><span style="font-size:18px\;"><strong style="font-family: arial\; font-size: 14px\;">ARE YOU IN?</strong></span><br />\n<br />\n<span style="font-size: 14px\;"><span style="font-family: arial\;">Annual product and service showcase. Come build meaningful business-to-business connections!<br />\n<br />\nThe Business &amp\; Hospitality Expo puts your company and products in front of customers and prospects. We know your main objectives are to generate awareness and ultimately\, to make a sale\, but this show also gives you the opportunity to gain customer feedback\, gather intelligence on competitors and industry trends\, introduce employees\, build partnerships and alliances\, and increase your credibility and reputation.</span></span></p>\n\n<p><br />\n<span style="font-family:times new roman\;"><span style="font-size:16px\;"><strong>Thank you to the City of Poughkeepsie for complimentary parking during the event in the municipal garage across the street.</strong></span></span><br />\n&nbsp\;</p>\n
LOCATION:Mid-Hudson Civic Center 14 Civic Center Plaza Poughkeepsie
UID:e.2770.10476516
SEQUENCE:3
DTSTAMP:20260425T115045Z
URL:https://business.dcrcoc.org/events/details/think-local-first-business-hospitality-expo-10476516
END:VEVENT

END:VCALENDAR
