BEGIN:VCALENDAR
VERSION:2.0
PRODID:-//ChamberMaster//Event Calendar 2.0//EN
METHOD:PUBLISH
X-PUBLISHED-TTL:P3D
REFRESH-INTERVAL:P3D
CALSCALE:GREGORIAN
BEGIN:VEVENT
DTSTART:20191106T180000Z
DTEND:20191106T230000Z
X-MICROSOFT-CDO-ALLDAYEVENT:FALSE
SUMMARY:Think Local First Business & Hospitality Expo
DESCRIPTION:Annual product and service showcase. Come build meaningful business-to-business connections!\n\n\n\n*Your Business Card Is Your Ticket In! \n\n\n\nTo register as a vendor\, click HERE to download the form.\n\n\n\nThe Business & Hospitality Expo puts your company and products in front of customers and prospects. We know your main objectives are to generate awareness and ultimately\, to make a sale\, but this show also gives you the opportunity to gain customer feedback\, gather intelligence on competitors and industry trends\, introduce employees\, build partnerships and alliances\, and increase your credibility and reputation.\n\n\n\nThank you to the City of Poughkeepsie for complimentary parking during the event in the municipal garage across the street.\n\n\n\nSponsored By:\n\nThink Differently\n\nAtlasStar\, Ltd.\n\nDBS Remodel\n\nDCH Wappingers Falls Toyota\n\nHudson Valley Credit Union\n\nIntegrated Enterprise Solutions\, Inc.\n\nKeyBank\n\nM.J. Neshiewat Convention Center (Mid-Hudson Civic Center)\n\nPoughkeepsie Galleria\n\nQuality Environmental Solutions & Technologies\, Inc.\n\nRiverside Bank A Division of Salisbury Bank and Trust Company\n\nRoyal Carting Service Company\n\nService Restore By Nest Restoration Services\n\n\n\nMedia Sponsors:\n\niHeart Media\n\nPoughkeepsie Journal
X-ALT-DESC;FMTTYPE=text/html:<p><br />\n<span style="font-size: 14px\;"><span style="font-family: arial\;">Annual product and service showcase. Come build meaningful <strong>business-to-business </strong>connections!<br />\n<br />\n<span style="color: rgb(255\, 0\, 0)\;"><strong>*Your Business Card Is Your Ticket In! </strong></span></span></span><br />\n<br />\n<strong style="font-family: &quot\;times new roman&quot\;\; font-size: 16px\;"><span style="color: rgb(0\, 0\, 255)\;"><strong>To register as a vendor\, click&nbsp\;</strong></span><strong><a href="https://www.dcrcoc.org/businessexpo"><span style="color: rgb(255\, 0\, 0)\;">HERE</span></a></strong><span style="color: rgb(0\, 0\, 255)\;"><strong>&nbsp\;to download the form.</strong></span></strong><br />\n<br />\n<span style="font-size: 14px\;"><span style="font-family: arial\;">The Business &amp\; Hospitality Expo puts your company and products in front of customers and prospects. We know your main objectives are to generate awareness and ultimately\, to make a sale\, but this show also gives you the opportunity to gain customer feedback\, gather intelligence on competitors and industry trends\, introduce employees\, build partnerships and alliances\, and increase your credibility and reputation.</span></span></p>\n\n<p><br />\n<span style="font-family:times new roman\;"><span style="font-size:16px\;"><strong>Thank you to the City of Poughkeepsie for complimentary parking during the event in the municipal garage across the street.<br />\n<br />\nSponsored By:<br />\n<a href="https://www.thinkdifferently.net/" target="_blank"><span style="color: rgb(0\, 0\, 255)\;">Think Differently</span></a><br />\n<a href="https://www.atlastar.com/" target="_blank"><span style="color:#0000FF\;">AtlasStar\, Ltd.</span></a></strong></span></span><br />\n<span style="font-family: times new roman\;"><span style="font-size: 16px\;"><strong><a href="http://www.dbsremodel.com" target="_blank"><span style="color:#0000FF\;">DBS Remodel</span></a><br />\n<a href="http://www.dchwappingerstoyota.com" target="_blank"><span style="color:#0000FF\;">DCH Wappingers Falls Toyota</span></a><br />\n<a href="http://www.hvfcu.org" target="_blank"><span style="color:#0000FF\;">Hudson Valley Credit Union</span></a><br />\n<a href="http://www.ies-ny.com" target="_blank"><span style="color: rgb(0\, 0\, 255)\;">Integrated Enterprise Solutions\, Inc.</span></a><br />\n<a href="http://www.keybank.com" target="_blank"><span style="color:#0000FF\;">KeyBank</span></a><br />\n<span style="font-family: times new roman\;"><span style="font-size: 16px\;"><strong><a href="http://www.midhudsonciviccenter.org" target="_blank"><span style="color:#0000FF\;">M.J. Neshiewat Convention Center (Mid-Hudson Civic Center)</span></a></strong></span></span><br />\n<span style="font-family: times new roman\;"><span style="font-size: 16px\;"><strong><a href="http://www.poughkeepsiegalleriamall.com" target="_blank"><span style="color:#0000FF\;">Poughkeepsie Galleria</span></a></strong></span></span><br />\n<span style="font-family: times new roman\;"><span style="font-size: 16px\;"><strong><a href="http://www.qualityenv.com" target="_blank"><span style="color:#0000FF\;">Quality Environmental Solutions &amp\; Technologies\, Inc.</span></a></strong></span></span><br />\n<span style="color: rgb(0\, 0\, 255)\;"><a href="https://www.salisburybank.com/riverside/" target="_blank"><span style="font-family: times new roman\;"><span style="font-size: 16px\;"><strong><span style="color: rgb(0\, 0\, 255)\;">Riverside Bank A Division of Salisbury Bank and Trust Company</span></strong></span></span></a></span><br />\n<a href="http://www.royalcarting.com" target="_blank"><span style="color:#0000FF\;">Royal Carting Service Company</span></a><br />\n<a href="https://www.servicemasterrestore.com/locations/ny/poughkeepsie/servicemaster-cleaning-and-restoration-9947" target="_blank"><span style="color: rgb(0\, 0\, 255)\;">Service Restore By Nest Restoration Services</span></a><br />\n<br />\n<span style="color: rgb(0\, 0\, 0)\;">Media Sponsors:</span><br />\n<a href="https://www.iheartmedia.com/iheartmedia/stations?city=Poughkeepsie" target="_blank"><span style="color:#0000FF\;">iHeart Media</span></a><br />\n<a href="https://www.poughkeepsiejournal.com/" target="_blank"><span style="color:#0000FF\;">Poughkeepsie Journal</span></a></strong></span></span></p>\n
LOCATION:M.J. Neshiewat Convention Center (Mid-Hudson Civic Center) 14 Civic Center Plaza Poughkeepsie
UID:e.2770.10479897
SEQUENCE:3
DTSTAMP:20260422T171019Z
URL:https://business.dcrcoc.org/events/details/think-local-first-business-hospitality-expo-10479897
END:VEVENT

END:VCALENDAR
