BEGIN:VCALENDAR
VERSION:2.0
PRODID:-//ChamberMaster//Event Calendar 2.0//EN
METHOD:PUBLISH
X-PUBLISHED-TTL:P3D
REFRESH-INTERVAL:P3D
CALSCALE:GREGORIAN
BEGIN:VEVENT
DTSTART:20210623T210000Z
DTEND:20210624T000000Z
X-MICROSOFT-CDO-ALLDAYEVENT:FALSE
SUMMARY:Think Local Trivia Night - Presented By Leadership Dutchess Class of 2021
DESCRIPTION:Event registration is now closed\, as well as raffle sales.\n\nQuestions? Please contact Chelsea at (845) 454-1700 ext. 1006.\n\n\n\n Additional raffle tickets can be purchased at the live event.\n\n\nWe hope you are as excited to get out and explore the Hudson Valley this summer as we are! Mark your calendars: The Leadership Dutchess Class of 2021 is hosting a Think Local Trivia Night\, followed by the Leadership Dutchess Class of 2021 Graduation\, on June 23rd from 5:00-8:00 PM showcasing fun facts about local Hudson Valley history\, folklore\, celebrities\, and more. Grab some friends and put your knowledge to the test for a chance to win up to a $1\,000 cash prize for your team!  In addition\, raffle prizes will be available throughout the event totaling over $5\,000. In-person attendees will receive a three-course meal accommodated by a cash bar. COVID safety measures will be in practice throughout the event. \n\n \n\n The following ticket options are available:\n\n \n\n1.      In-Person Ticket: $75 - Includes Trivia event admission\, dinner and cash bar\, signature limited edition mask\, and one entry in the raffle drawing.\n\n2.      Virtual Ticket: $25 - Includes virtual Trivia event admission\, signature limited edition mask\, and one entry in the raffle drawing.\n\n3.      Mask & Raffle Ticket: $15   Includes signature limited edition mask and one entry in the raffle drawing. \n\n \n\nProceeds from the trivia night will help support future classes and benefit the Chamber Foundation's general scholarship fund\, which has raised over a half-million dollars for local students since 2001.\n\n \n\nCelebrating 32 years in 2021\, Leadership Dutchess has a long history of mentorship in the Hudson Valley\, and many of its graduates hold positions that help drive the success of our community\, making it a better place to live\, work\, and do business.  \n\nTo Learn More About The Event\, Please Click Here\n\n\n\n\n\nPayment in advance is required. Cancellations less than 72-hours from the event and no-shows will be charged the full ticket price.
X-ALT-DESC;FMTTYPE=text/html:&nbsp\;\n<h5 style="box-sizing: inherit\; margin: 0px 0px 0.5rem\; padding: 0px\; font-family: Quicksand\, &quot\;Open Sans&quot\;\, Arial\, Helvetica\, sans-serif\; color: rgb(10\, 10\, 10)\; text-rendering: optimizelegibility\; font-size: 1.25rem\; line-height: 1.4\; background-color: rgb(254\, 254\, 254)\; text-align: center\;"><span style="color:#FF0000\;"><span style="box-sizing: inherit\; font-weight: 700\; line-height: inherit\; margin-bottom: 0px\;">Event registration is now closed\, as well as raffle sales.<br />\nQuestions?&nbsp\;Please contact Chelsea at (845) 454-1700 ext. 1006.<br />\n<br />\n&nbsp\;Additional raffle tickets can be purchased at the live event.</span></span></h5>\n<br />\n<span style="font-size:18px\;"><span style="font-family:times new roman\;"><span style="color:#000000\;"><span style="border:none windowtext 1.0pt\;padding:0in\;background:white\;">We hope you are as excited to get out and explore the Hudson Valley this summer as we are! Mark your calendars: The Leadership Dutchess Class of 2021 is hosting a&nbsp\;<em>Think Local Trivia Night\,&nbsp\;</em>followed by the Leadership Dutchess Class of 2021 Graduation\, on June 23rd&nbsp\;from&nbsp\;5:00-8:00 PM&nbsp\;showcasing fun facts about local&nbsp\;Hudson Valley&nbsp\;history\, folklore\, celebrities\, and more. Grab some friends and put your knowledge to the test for a chance to win up to&nbsp\;a $1\,000 cash prize for your team!&nbsp\;&nbsp\;</span><span style="border:none windowtext 1.0pt\;padding:0in\;background:white\;">In addition\, raffle prizes will be available throughout the event totaling over $5\,000.&nbsp\;In-person attendees will receive a three-course meal accommodated by a cash bar. COVID safety measures will be in practice throughout the event.&nbsp\;</span><br />\n&nbsp\;<br />\n<span style="border:none windowtext 1.0pt\;padding:0in\;background:white\;">&nbsp\;The following ticket options are available:</span><br />\n&nbsp\;<br />\n<span style="border:none windowtext 1.0pt\;padding:0in\;background:white\;">1.</span>&nbsp\;&nbsp\;&nbsp\;&nbsp\;&nbsp\;&nbsp\;<span style="border:none windowtext 1.0pt\;padding:0in\;background:white\;">In-Person Ticket: $75&nbsp\;- Includes Trivia event admission\, dinner and cash bar\, signature limited edition mask\, and&nbsp\;one entry in the raffle drawing.</span><br />\n<span style="border:none windowtext 1.0pt\;padding:0in\;background:white\;">2.</span>&nbsp\;&nbsp\;&nbsp\;&nbsp\;&nbsp\;&nbsp\;<span style="border:none windowtext 1.0pt\;padding:0in\;background:white\;">Virtual Ticket: $25&nbsp\;- Includes virtual Trivia event admission\, signature limited edition mask\, and&nbsp\;one entry in the raffle drawing.</span><br />\n<span style="border:none windowtext 1.0pt\;padding:0in\;background:white\;">3.</span>&nbsp\;&nbsp\;&nbsp\;&nbsp\;&nbsp\;&nbsp\;<span style="border:none windowtext 1.0pt\;padding:0in\;background:white\;">Mask &amp\; Raffle Ticket: $15&nbsp\;&ndash\; Includes signature limited edition mask and&nbsp\;one entry in the raffle drawing.&nbsp\;</span><br />\n&nbsp\;<br />\n<span style="border:none windowtext 1.0pt\;padding:0in\;background:white\;">Proceeds from the trivia night will help support future classes and benefit the Chamber Foundation&rsquo\;s general scholarship fund\, which has raised over a half-million dollars for local students since 2001.</span><br />\n&nbsp\;<br />\n<span style="border:none windowtext 1.0pt\;padding:0in\;background:white\;">Celebrating 32 years in 2021\, Leadership Dutchess has a long history of mentorship in the Hudson Valley\, and many of its graduates hold positions that help drive the success of our community\, making it a better place to live\, work\, and do business.&nbsp\;&nbsp\;</span></span><br />\n<span style="font-size:20px\;"><u><span style="border:none windowtext 1.0pt\;padding:0in\;background:yellow\;"><span style="color:black\;">To Learn More About The Event\, Please Click&nbsp\;</span></span></u><strong><u style="font-variant-ligatures:normal\;font-variant-caps:normal\;orphans:2\;text-align:start\;widows:2\;-webkit-text-stroke-width:0px\;word-spacing:0px\;"><span style="border:none windowtext 1.0pt\;padding:0in\;background:yellow\;"><a href="https://www.chamberfdn.org/events/thinklocaltrivianight/" target="_blank"><span style="color:#0000FF\;">Here</span></a></span></u></strong></span><br />\n<br />\n<br />\n<span style="font-size:16px\;"><font color="#000000" style="font-family: tahoma\; font-size: 16px\;">Payment in advance is required. Cancellations less than 72-hours from the event and no-shows will be charged the full ticket price.</font></span></span></span>
LOCATION:Christos 155 Wilbur Boulevard Poughkeepsie For Zoom Access: Please Contact chelsea@dcrcoc.org
UID:e.2770.10485000
SEQUENCE:3
DTSTAMP:20260421T095408Z
URL:https://business.dcrcoc.org/events/details/think-local-trivia-night-presented-by-leadership-dutchess-class-of-2021-10485000
END:VEVENT

END:VCALENDAR
