BEGIN:VCALENDAR
VERSION:2.0
PRODID:-//ChamberMaster//Event Calendar 2.0//EN
METHOD:PUBLISH
X-PUBLISHED-TTL:P3D
REFRESH-INTERVAL:P3D
CALSCALE:GREGORIAN
BEGIN:VEVENT
DTSTART:20181028T120000Z
DTEND:20181028T170000Z
X-MICROSOFT-CDO-ALLDAYEVENT:FALSE
SUMMARY:Third Annual Team Hope Walk for Huntington's Disease
DESCRIPTION:ArchCare at Ferncliff Nursing Home and the Center for Neurodegenerative Care at ArchCare at Ferncliff in Rhinebeck have once again joined forces with the New York region of the Huntington's Disease Society of America to sponsor the third annual Team Hope Walk   Hudson Valley on October 28 to raise funds for Huntington's disease (HD) research and programs that support people with HD and their families in the Hudson Valley. \n\n\n\nAll community members are invited and encouraged to participate in the 2.5-mile walk along the Walkway Over the Hudson from its Highland entry to Poughkeepsie and back. Last year's Team Hope Walk   Hudson Valley drew more than 130 participants and raised $34\,000 for HD\, a fatal genetic disorder that causes the progressive breakdown of nerve cells in the brain and affects an estimated 30\,000 Americans. \n\n\n\nCheck-in for the event will begin at 8 a.m. on Sunday\, October 28\, at the Walkway's Highland entrance\, 87 Haviland Road\, with the walk beginning at 9 a.m. To register\, get details\, fundraise or learn about sponsorship opportunities\, visit www.hdsa.org/thwhudsonvalley.\n\n\n\nNow in its 50 year\, Team Hope Walk is HDSA's largest national grassroots fundraising event\, which takes place in more than 100 cities across the U.S and has raised more than $7 million for HD since its inception in 2007. To volunteer or support the Team Hope Walk\, please contact Casey Snyder at (212) 242-1968 or by email\, csnyder@hdsa.org.
X-ALT-DESC;FMTTYPE=text/html:<span style="background-color:rgb(246\, 246\, 246)\; color:rgb(0\, 0\, 0)\; font-family:arial">ArchCare at Ferncliff Nursing Home and the Center for Neurodegenerative Care at ArchCare at Ferncliff in Rhinebeck have once again joined forces with the New York region of the Huntington&rsquo\;s Disease Society of America to sponsor the third annual Team Hope Walk &ndash\; Hudson Valley on October 28 to raise funds for Huntington&rsquo\;s disease (HD) research and programs that support people with HD and their families in the Hudson Valley.&nbsp\;</span><br />\n<br />\n<span style="background-color:rgb(246\, 246\, 246)\; color:rgb(0\, 0\, 0)\; font-family:arial">All community members are invited and encouraged to participate in the 2.5-mile walk along the Walkway Over the Hudson from its Highland entry to Poughkeepsie and back. Last year&rsquo\;s Team Hope Walk &ndash\; Hudson Valley drew more than 130 participants and raised $34\,000 for HD\, a fatal genetic disorder that causes the progressive breakdown of nerve cells in the brain and affects an estimated 30\,000 Americans.&nbsp\;</span><br />\n<br />\n<span style="background-color:rgb(246\, 246\, 246)\; color:rgb(0\, 0\, 0)\; font-family:arial">Check-in for the event will begin at 8 a.m. on Sunday\, October 28\, at the Walkway&rsquo\;s Highland entrance\, 87 Haviland Road\, with the walk beginning at 9 a.m. To register\, get details\, fundraise or learn about sponsorship opportunities\, visit www.hdsa.org/thwhudsonvalley.</span><br />\n<br />\n<span style="background-color:rgb(246\, 246\, 246)\; color:rgb(0\, 0\, 0)\; font-family:arial">Now in its 50 year\, Team Hope Walk is HDSA&rsquo\;s largest national grassroots fundraising event\, which takes place in more than 100 cities across the U.S and has raised more than $7 million for HD since its inception in 2007. To volunteer or support the Team Hope Walk\, please contact Casey Snyder at (212) 242-1968 or by email\, csnyder@hdsa.org.</span>
LOCATION:Walkway Over the Hudson at the Highland Entrance\, 87 Haviland Road\, Highland\, NY
UID:e.2770.10479710
SEQUENCE:3
DTSTAMP:20260425T114902Z
URL:https://business.dcrcoc.org/events/details/third-annual-team-hope-walk-for-huntington-s-disease-10479710
END:VEVENT

END:VCALENDAR
