BEGIN:VCALENDAR
VERSION:2.0
PRODID:-//ChamberMaster//Event Calendar 2.0//EN
METHOD:PUBLISH
X-PUBLISHED-TTL:P3D
REFRESH-INTERVAL:P3D
CALSCALE:GREGORIAN
BEGIN:VEVENT
DTSTART:20200415T160000Z
DTEND:20200415T173000Z
X-MICROSOFT-CDO-ALLDAYEVENT:FALSE
SUMMARY:Thrive Thru Crisis
DESCRIPTION:Shifting to true entrepreneurial mindset- Come roaring out of COVID-19! \n\n\n\nWorkshop Topics:\n\n\n	\n	Top 3 strategic moves to thrive thru challenging times\n	\n	\n	Adjust & evolve your business model\n	\n	\n	Hidden underlying reasons of business vulnerability\n	\n	\n	Have a clear picture\n	\n	\n	Best & worst case scenarios\n	\n	\n	Know your financial data
X-ALT-DESC;FMTTYPE=text/html:<p><span style="font-size:16px"><strong>Shifting to true entrepreneurial mindset- Come roaring out of COVID-19!&nbsp\;</strong><br />\n<br />\n<strong>Workshop Topics:</strong></span></p>\n\n<ul>\n	<li>\n	<p><span style="font-size:16px">Top 3 strategic moves to thrive thru challenging times</span></p>\n	</li>\n	<li>\n	<p><span style="font-size:16px">Adjust &amp\; evolve your business model</span></p>\n	</li>\n	<li>\n	<p><span style="font-size:16px">Hidden underlying reasons of business vulnerability</span></p>\n	</li>\n	<li>\n	<p><span style="font-size:16px">Have a clear picture</span></p>\n	</li>\n	<li>\n	<p><span style="font-size:16px">Best &amp\; worst case scenarios</span></p>\n	</li>\n	<li>\n	<p><span style="font-size:16px">Know your financial data</span></p>\n	</li>\n</ul>\n
LOCATION:Webinar
UID:e.2770.10483241
SEQUENCE:3
DTSTAMP:20260422T104055Z
URL:https://business.dcrcoc.org/events/details/thrive-thru-crisis-10483241
END:VEVENT

END:VCALENDAR
