BEGIN:VCALENDAR
VERSION:2.0
PRODID:-//ChamberMaster//Event Calendar 2.0//EN
METHOD:PUBLISH
X-PUBLISHED-TTL:P3D
REFRESH-INTERVAL:P3D
CALSCALE:GREGORIAN
BEGIN:VEVENT
DTSTART:20201216T140000Z
DTEND:20201216T150000Z
X-MICROSOFT-CDO-ALLDAYEVENT:FALSE
SUMMARY:Through COVID & Beyond: Business Resilience & Risk Management
DESCRIPTION:2020 did not unfold the way any of us hoped or planned.  Success takes resilience\; resilience means to adapt.  Now is the time to finish 2020 strong and plan for what may come in 2021!\n\nTopics:\n\n\n	Business Resilience  What Does it Mean?\n	Working Remotely  Best Practices\n	Risk & Management of Cyber Threats\n	Engage Customers & Employees Safely\n	How to Reduce Soft Costs through Insurance\n\n\nSponsored by: Community Bank N.A.
X-ALT-DESC;FMTTYPE=text/html:<p><span style="font-size:16px">2020 did not unfold the way any of us hoped or planned.&nbsp\; Success takes resilience\; resilience means to adapt.&nbsp\; Now is the time to finish 2020 strong and plan for what may come in 2021!</span></p>\n\n<p><span style="font-size:16px"><strong>Topics:</strong></span></p>\n\n<ul>\n	<li><span style="font-size:16px">Business Resilience&ndash\; What Does it Mean?</span></li>\n	<li><span style="font-size:16px">Working Remotely&ndash\; Best Practices</span></li>\n	<li><span style="font-size:16px">Risk &amp\; Management of Cyber Threats</span></li>\n	<li><span style="font-size:16px">Engage Customers &amp\; Employees Safely</span></li>\n	<li><span style="font-size:16px">How to Reduce Soft Costs through Insurance</span></li>\n</ul>\n\n<p><span style="font-size:16px"><em><strong>Sponsored by:&nbsp\;</strong>Community Bank N.A.</em></span></p>\n
LOCATION:Online
UID:e.2770.10484537
SEQUENCE:3
DTSTAMP:20260421T192223Z
URL:https://business.dcrcoc.org/events/details/through-covid-beyond-business-resilience-risk-management-10484537
END:VEVENT

END:VCALENDAR
