BEGIN:VCALENDAR
VERSION:2.0
PRODID:-//ChamberMaster//Event Calendar 2.0//EN
METHOD:PUBLISH
X-PUBLISHED-TTL:P3D
REFRESH-INTERVAL:P3D
CALSCALE:GREGORIAN
BEGIN:VEVENT
DTSTART:20180324T003000Z
DTEND:20180324T033000Z
X-MICROSOFT-CDO-ALLDAYEVENT:FALSE
SUMMARY:Thrown Together at The Alley Kat!
DESCRIPTION:Thrown Together covers a huge variety of popular songs and genres and puts it all together in an irreverent\, yet authentic\, fun\, party style! Crowd pleaser songs include "Tennessee Whiskey" by Chris Stapleton\, Queen's "Fat Bottomed Girls"\, Pitbull and John Ryan's "Fireball\," the Allman Brothers Band "One Way Out" and "Shippin' Up to Boston" by the Dropkick Murphy's\, Billy Joel's "You May Be Right" among others. Don't miss this party!!!\nCheck out the event details on our Facebook page:\n\nThrown Together at The Alley Kat!
X-ALT-DESC;FMTTYPE=text/html:<p><span style="color:rgb(75\, 79\, 86)\; font-family:system-ui\,-apple-system\,blinkmacsystemfont\,.sfnstext-regular\,sans-serif\; font-size:14px">Thrown Together covers a huge variety of popular songs and genres and puts it all together in an irreverent\, yet authentic\, fun\, party style! Crowd pleaser songs include &quot\;Tennessee Whiskey&quot\; by Chris Stapleton\, Queen&#39\;s &quot\;Fat Bottomed Girls&quot\;\, Pitbull and John Ryan&#39\;s &quot\;Fireball\,&quot\; the Allman Brothers Band &quot\;One Way Out&quot\; and &quot\;Shippin&#39\; Up to Boston&quot\; by the Dropkick Murphy&#39\;s\, Billy Joel&#39\;s &quot\;You May Be Right&quot\; among others. Don&#39\;t miss this party!!!</span></p>\nCheck out the event details on our Facebook page:<br />\n<a href="https://www.facebook.com/events/227134771193269/">Thrown Together at The Alley Kat!</a>\n\n<h1>&nbsp\;</h1>\n
LOCATION:The Alley Kat 1677 US 9 Wappingers Falls\, New York\, NY 12590
UID:e.2770.10476874
SEQUENCE:3
DTSTAMP:20260425T210746Z
URL:https://business.dcrcoc.org/events/details/thrown-together-at-the-alley-kat-03-23-2018-10476874
END:VEVENT

END:VCALENDAR
