BEGIN:VCALENDAR
VERSION:2.0
PRODID:-//ChamberMaster//Event Calendar 2.0//EN
METHOD:PUBLISH
X-PUBLISHED-TTL:P3D
REFRESH-INTERVAL:P3D
CALSCALE:GREGORIAN
BEGIN:VEVENT
DTSTART:20200402T140000Z
DTEND:20200402T143000Z
X-MICROSOFT-CDO-ALLDAYEVENT:FALSE
SUMMARY:Tom Duggan Photography featured on Michael Esposito's Instagram Live Podcast
DESCRIPTION:Join Michael and Tom and Michael finds out a bit about Tom Duggan Photography\, what is currently being offered and what new services Tom is working on to bring to the market and new and existing clients after we beat COVID-19!
X-ALT-DESC;FMTTYPE=text/html:Join Michael and Tom and Michael finds out a bit about Tom Duggan Photography\, what is currently being offered and what new services Tom is working on to bring to the market and new and existing clients after we beat COVID-19!
LOCATION:www.instagram.com/michaelespositoinc
UID:e.2770.10483242
SEQUENCE:3
DTSTAMP:20260422T081846Z
URL:https://business.dcrcoc.org/events/details/tom-duggan-photography-featured-on-michael-esposito-s-instagram-live-podcast-10483242
END:VEVENT

END:VCALENDAR
