BEGIN:VCALENDAR
VERSION:2.0
PRODID:-//ChamberMaster//Event Calendar 2.0//EN
METHOD:PUBLISH
X-PUBLISHED-TTL:P3D
REFRESH-INTERVAL:P3D
CALSCALE:GREGORIAN
BEGIN:VEVENT
DTSTART:20210217T163000Z
DTEND:20210217T173000Z
X-MICROSOFT-CDO-ALLDAYEVENT:FALSE
SUMMARY:Tompkins Mahopac Bank to Present Free “Financial Fraud and Data Protection for Your Business” Workshop
DESCRIPTION:In an effort to protect Dutchess\, Putnam and Westchester County business owners from the perils of fraud\, Tompkins Mahopac Bank (TMB) will host a virtual workshop on "Financial Fraud and Data Protection for your Business" on Wednesday\, February 17 from 11:30 a.m. to 12:30 p.m. While there is no cost to attend the informative talk\, registration is required on Tompkins Mahopac Bank's website by Monday\, February 15 in order to access log-in information.\n\n \n\nTo register: https://webinar.mahopacbank.com/business-fraud-webinar
X-ALT-DESC;FMTTYPE=text/html:In an effort to protect Dutchess\, Putnam and Westchester County business owners from the perils of fraud\, Tompkins Mahopac Bank (TMB) will host a virtual workshop on &ldquo\;Financial Fraud and Data Protection for your Business&rdquo\; on Wednesday\, February 17 from 11:30 a.m. to 12:30 p.m. While there is no cost to attend the informative talk\, registration is required on Tompkins Mahopac Bank&rsquo\;s website by Monday\, February 15 in order to access log-in information.<br />\n&nbsp\;<br />\nTo register: <a href="https://webinar.mahopacbank.com/business-fraud-webinar">https://webinar.mahopacbank.com/business-fraud-webinar</a><br />\n&nbsp\;
LOCATION:This is a virtual event.
UID:e.2770.10484903
SEQUENCE:3
DTSTAMP:20260421T161709Z
URL:https://business.dcrcoc.org/events/details/tompkins-mahopac-bank-to-present-free-financial-fraud-and-data-protection-for-your-business-workshop-10484903
END:VEVENT

END:VCALENDAR
