BEGIN:VCALENDAR
VERSION:2.0
PRODID:-//ChamberMaster//Event Calendar 2.0//EN
METHOD:PUBLISH
X-PUBLISHED-TTL:P3D
REFRESH-INTERVAL:P3D
CALSCALE:GREGORIAN
BEGIN:VEVENT
DTSTART:20180404T133000Z
DTEND:20180404T200000Z
X-MICROSOFT-CDO-ALLDAYEVENT:FALSE
SUMMARY:Tourism Trends Conference Presented by Dutchess Tourism
DESCRIPTION:Learn about how Dutchess Tourism works to support your business and the many exciting things we have planned on the horizon. Working together is how we build on our collective success! This information packed day will help you capitalize on available opportunities for collaboration and aid you with research-based strategies for attracting more visitors to your site. The morning sessions are for Dutchess County based tourism-related businesses/organizations only. The afternoon is open to tourism-related businesses throughout the Hudson Valley. Details can be found online\, and tickets should be purchased by March 28.
X-ALT-DESC;FMTTYPE=text/html:Learn about how Dutchess Tourism works to support your business and the many exciting things we have planned on the horizon. Working together is how we build on our collective success! This information packed day will help you capitalize on available opportunities for collaboration and aid you with research-based strategies for attracting more visitors to your site. The morning sessions are for Dutchess County based tourism-related businesses/organizations only. The afternoon is open to tourism-related businesses throughout the Hudson Valley. Details can be found online\, and tickets should be purchased by March 28.
LOCATION:The Villa Borghese\, 70 Widmer Road\, Wappingers Falls\, NY 12590
UID:e.2770.10476888
SEQUENCE:3
DTSTAMP:20260425T195146Z
URL:https://business.dcrcoc.org/events/details/tourism-trends-conference-presented-by-dutchess-tourism-10476888
END:VEVENT

END:VCALENDAR
