BEGIN:VCALENDAR
VERSION:2.0
PRODID:-//ChamberMaster//Event Calendar 2.0//EN
METHOD:PUBLISH
X-PUBLISHED-TTL:P3D
REFRESH-INTERVAL:P3D
CALSCALE:GREGORIAN
BEGIN:VEVENT
DTSTART:20171111T140000Z
DTEND:20171111T200000Z
X-MICROSOFT-CDO-ALLDAYEVENT:FALSE
SUMMARY:Town of Wappinger Craft Fair
DESCRIPTION:Get a jump on your holiday shopping by stopping by Town Hall and visiting our 20 crafters. Breakfast and lunch foods will be available for purchase\, too.
X-ALT-DESC;FMTTYPE=text/html:Get a jump on your holiday shopping by stopping by Town Hall and visiting our 20 crafters. Breakfast and lunch foods will be available for purchase\, too.
LOCATION:Wappinger Town Hall 20 Middlebush Road Wappingers Falls\, NY
UID:e.2770.10476339
SEQUENCE:3
DTSTAMP:20260426T020804Z
URL:https://business.dcrcoc.org/events/details/town-of-wappinger-craft-fair-10476339
END:VEVENT

END:VCALENDAR
