BEGIN:VCALENDAR
VERSION:2.0
PRODID:-//ChamberMaster//Event Calendar 2.0//EN
METHOD:PUBLISH
X-PUBLISHED-TTL:P3D
REFRESH-INTERVAL:P3D
CALSCALE:GREGORIAN
BEGIN:VEVENT
DTSTART:20171028T170000Z
DTEND:20171028T190000Z
X-MICROSOFT-CDO-ALLDAYEVENT:FALSE
SUMMARY:Town of Wappinger Halloween Costume Contest & Trunk or Treat
DESCRIPTION:Costume contest for kids ages infant - 13 years for funniest\, cutest\, scariest and most original as well as best family costumes. Decorate your vehicle's trunk for Halloween and hand out treats for the kids. Best trunk wins a prize\; register by calling 297-0720. Enter the Haunted House\, too!
X-ALT-DESC;FMTTYPE=text/html:Costume contest for kids ages infant - 13 years for funniest\, cutest\, scariest and most original as well as best family costumes. Decorate your vehicle&#39\;s trunk for Halloween and hand out treats for the kids. Best trunk wins a prize\; register by calling 297-0720. Enter the Haunted House\, too!
LOCATION:Schlathaus Park\, 126 All Angels Hill Road\, Wappingers Falls\, NY 12590
UID:e.2770.10476336
SEQUENCE:3
DTSTAMP:20260426T033726Z
URL:https://business.dcrcoc.org/events/details/town-of-wappinger-halloween-costume-contest-trunk-or-treat-10476336
END:VEVENT

END:VCALENDAR
