BEGIN:VCALENDAR
VERSION:2.0
PRODID:-//ChamberMaster//Event Calendar 2.0//EN
METHOD:PUBLISH
X-PUBLISHED-TTL:P3D
REFRESH-INTERVAL:P3D
CALSCALE:GREGORIAN
BEGIN:VEVENT
DTSTART:20171202T220000Z
DTEND:20171203T000000Z
X-MICROSOFT-CDO-ALLDAYEVENT:FALSE
SUMMARY:Town of Wappinger Tree Lighting
DESCRIPTION:Join us as we kick off the holiday season by lighting the Christmas tree and await Santa's arrival as he greets and hands out goodies for the kids.
X-ALT-DESC;FMTTYPE=text/html:Join us as we kick off the holiday season by lighting the Christmas tree and await Santa&#39\;s arrival as he greets and hands out goodies for the kids.
LOCATION:Schlathaus Park 126 All Angels Hill Road Wappingers Falls\, NY
UID:e.2770.10476338
SEQUENCE:3
DTSTAMP:20260426T020622Z
URL:https://business.dcrcoc.org/events/details/town-of-wappinger-tree-lighting-10476338
END:VEVENT

END:VCALENDAR
