BEGIN:VCALENDAR
VERSION:2.0
PRODID:-//ChamberMaster//Event Calendar 2.0//EN
METHOD:PUBLISH
X-PUBLISHED-TTL:P3D
REFRESH-INTERVAL:P3D
CALSCALE:GREGORIAN
BEGIN:VEVENT
DTSTART:20180520T140000Z
DTEND:20180520T200000Z
X-MICROSOFT-CDO-ALLDAYEVENT:FALSE
SUMMARY:Trade Secrets Garden Tour
DESCRIPTION:Featuring three lovely gardens\, two in New York\, one in Connecticut\, including the Trade Secrets signature garden of Bunny Williams and John Rosselli - always a treat! Tickets go on sale April 1st and must be purchased in advance.
X-ALT-DESC;FMTTYPE=text/html:Featuring three lovely gardens\, two in New York\, one in Connecticut\, including the Trade Secrets signature garden of Bunny Williams and John Rosselli - always a treat! Tickets go on sale April 1st and must be purchased in advance.
LOCATION:Middlefield Garden\; Millbrook\, NY Wethersfield Estate\; Amenia\, NY Bunny Williams Garden\; Falls Village\, CT
UID:e.2770.10476717
SEQUENCE:3
DTSTAMP:20260425T181850Z
URL:https://business.dcrcoc.org/events/details/trade-secrets-garden-tour-10476717
END:VEVENT

END:VCALENDAR
