BEGIN:VCALENDAR
VERSION:2.0
PRODID:-//ChamberMaster//Event Calendar 2.0//EN
METHOD:PUBLISH
X-PUBLISHED-TTL:P3D
REFRESH-INTERVAL:P3D
CALSCALE:GREGORIAN
BEGIN:VEVENT
DTSTART:20180519T120000Z
DTEND:20180519T190000Z
X-MICROSOFT-CDO-ALLDAYEVENT:FALSE
SUMMARY:Trade Secrets Rare Plant & Garden Antiques Sale
DESCRIPTION:The Northeast's garden event of the year! Trade Secrets rare plant and garden antique sale in Sharon CT features over 60 of the finest plant and garden antiques vendors from the northeast region and beyond. Tickets go on sale April 1\, 2018.
X-ALT-DESC;FMTTYPE=text/html:The Northeast&rsquo\;s garden event of the year! Trade Secrets rare plant and garden antique sale in Sharon CT features over 60 of the finest plant and garden antiques vendors from the northeast region and beyond. Tickets go on sale April 1\, 2018.
LOCATION:30 Hosier Rd\, Sharon\, CT 06069
UID:e.2770.10476716
SEQUENCE:3
DTSTAMP:20260425T182132Z
URL:https://business.dcrcoc.org/events/details/trade-secrets-rare-plant-garden-antiques-sale-10476716
END:VEVENT

END:VCALENDAR
