BEGIN:VCALENDAR
VERSION:2.0
PRODID:-//ChamberMaster//Event Calendar 2.0//EN
METHOD:PUBLISH
X-PUBLISHED-TTL:P3D
REFRESH-INTERVAL:P3D
CALSCALE:GREGORIAN
BEGIN:VEVENT
DTSTART:20190511T213000Z
DTEND:20190511T233000Z
X-MICROSOFT-CDO-ALLDAYEVENT:FALSE
SUMMARY:Travis Tritt at Tilly's Table
DESCRIPTION:Travis Tritt with Special Guest Scooter Brown Band Playing at Tilly's Table
X-ALT-DESC;FMTTYPE=text/html:Travis Tritt with Special Guest Scooter Brown Band Playing at Tilly&#39\;s Table
LOCATION:100 NY-312 Brewster
UID:e.2770.10480768
SEQUENCE:3
DTSTAMP:20260423T044504Z
URL:https://business.dcrcoc.org/events/details/travis-tritt-at-tilly-s-table-10480768
END:VEVENT

END:VCALENDAR
