BEGIN:VCALENDAR
VERSION:2.0
PRODID:-//ChamberMaster//Event Calendar 2.0//EN
METHOD:PUBLISH
X-PUBLISHED-TTL:P3D
REFRESH-INTERVAL:P3D
CALSCALE:GREGORIAN
BEGIN:VEVENT
DTSTART:20171110T000000Z
DTEND:20171110T010000Z
X-MICROSOFT-CDO-ALLDAYEVENT:FALSE
SUMMARY:Trivia & Bowling at The Alley Kat!
DESCRIPTION:Hudson Valley Trivia Company hosts Trivia Night! Come play TRIVIA from 7 to 8 pm\, then stay to bowl the night away! The TRIVIA is free to play\, the BOWLING is just $10/person for 2hrs including shoes! Our TRIVIA? winners get a free BOWLING!\n\n\n\nCheck out the event details on our Facebook page:\n\nTrivia & Bowling at The Alley Kat!
X-ALT-DESC;FMTTYPE=text/html:<span style="color:rgb(75\, 79\, 86)\; font-family:sf optimized\,system-ui\,-apple-system\,blinkmacsystemfont\,.sfnstext-regular\,sans-serif\; font-size:14px">Hudson Valley Trivia Company hosts Trivia Night! Come play TRIVIA from 7 to 8 pm\, then stay to bowl the night away! The TRIVIA is free to play\, the BOWLING is just $10/person for 2hrs including shoes! Our TRIVIA? winners get a free BOWLING!</span><br />\n<br />\nCheck out the event details on our Facebook page:<br />\n<a href="https://www.facebook.com/events/1153497701419447/">Trivia &amp\; Bowling at The Alley Kat!</a><br />\n<br />\n&nbsp\;
LOCATION:
UID:e.2770.10476535
SEQUENCE:3
DTSTAMP:20260426T020627Z
URL:https://business.dcrcoc.org/events/details/trivia-bowling-at-the-alley-kat-10476535
END:VEVENT

END:VCALENDAR
