BEGIN:VCALENDAR
VERSION:2.0
PRODID:-//ChamberMaster//Event Calendar 2.0//EN
METHOD:PUBLISH
X-PUBLISHED-TTL:P3D
REFRESH-INTERVAL:P3D
CALSCALE:GREGORIAN
BEGIN:VEVENT
DTSTART:20191011T220000Z
DTEND:20191012T010000Z
X-MICROSOFT-CDO-ALLDAYEVENT:FALSE
SUMMARY:Trivia Night at The Links at Union Vale
DESCRIPTION:Join us for Friday Night Trivia in the pub every Friday starting September 20th!\n\n \n\nCome have fun with friends and family and win free rounds of golf and other great prizes every week!\n\n \n\nAfter trivia grab your brew and crew and gather around our outdoor fire pit and enjoy the transition to the beautiful fall scenery!
X-ALT-DESC;FMTTYPE=text/html:<div>&nbsp\;</div>\n\n<div><span style="font-size:24px">Join us for Friday Night Trivia in the pub every Friday starting September 20th!</span></div>\n\n<div>&nbsp\;</div>\n\n<div><span style="font-size:24px">Come have fun with friends and family and win free rounds of golf and other great prizes every week!</span></div>\n\n<div>&nbsp\;</div>\n\n<div><span style="font-size:24px">After trivia grab your brew and crew and gather around our outdoor fire pit and enjoy the transition to the beautiful fall scenery!</span></div>\n
LOCATION:
UID:e.2770.10481405
SEQUENCE:3
DTSTAMP:20260422T183309Z
URL:https://business.dcrcoc.org/events/details/trivia-night-at-the-links-at-union-vale-10-11-2019-10481405
END:VEVENT

END:VCALENDAR
