BEGIN:VCALENDAR
VERSION:2.0
PRODID:-//ChamberMaster//Event Calendar 2.0//EN
METHOD:PUBLISH
X-PUBLISHED-TTL:P3D
REFRESH-INTERVAL:P3D
CALSCALE:GREGORIAN
BEGIN:VEVENT
DTSTART:20180228T230000Z
DTEND:20180303T230000Z
X-MICROSOFT-CDO-ALLDAYEVENT:FALSE
SUMMARY:Try Hockey For Free Week
DESCRIPTION:WEDNESDAY 2/28 Adult 18+ McCann Ice Arena: 6:00pm-7:00pm Register Now! THURSDAY 3/1 Youth Co-Ed 5-13 year olds Ice Time Sports Complex: 5:00pm-6:00pm Register Now! FRIDAY 3/2 Girls Focus All ages Ice Time Sports Complex: 5:00pm 6:00pm Register Now! SATURDAY 3/3 Try Hockey with the NY Rangers! Youth Co-Ed 3-10 year olds Ice Time Complex: 4:00 6:00pm Register Now! Please note: Ice Time Complex is located at: 21 Lakeside Road Newburgh\, NY 12550 McCann Ice Arena is located at: 14 Civic Center Plaza Poughkeepsie\, NY 12601
X-ALT-DESC;FMTTYPE=text/html:WEDNESDAY 2/28 Adult 18+ McCann Ice Arena: 6:00pm-7:00pm Register Now! THURSDAY 3/1 Youth Co-Ed 5-13 year olds Ice Time Sports Complex: 5:00pm-6:00pm Register Now! FRIDAY 3/2 Girls Focus All ages Ice Time Sports Complex: 5:00pm&ndash\;6:00pm Register Now! SATURDAY 3/3 Try Hockey with the NY Rangers! Youth Co-Ed 3-10 year olds Ice Time Complex: 4:00&ndash\;6:00pm Register Now! Please note: Ice Time Complex is located at: 21 Lakeside Road Newburgh\, NY 12550 McCann Ice Arena is located at: 14 Civic Center Plaza Poughkeepsie\, NY 12601
LOCATION:McCann Ice Arena
UID:e.2770.10476858
SEQUENCE:3
DTSTAMP:20260425T210438Z
URL:https://business.dcrcoc.org/events/details/try-hockey-for-free-week-10476858
END:VEVENT

END:VCALENDAR
