BEGIN:VCALENDAR
VERSION:2.0
PRODID:-//ChamberMaster//Event Calendar 2.0//EN
METHOD:PUBLISH
X-PUBLISHED-TTL:P3D
REFRESH-INTERVAL:P3D
CALSCALE:GREGORIAN
BEGIN:VEVENT
DTSTART:20171029T144500Z
DTEND:20171029T173000Z
X-MICROSOFT-CDO-ALLDAYEVENT:FALSE
SUMMARY:Try Hockey Free with the New York Rangers
DESCRIPTION:Try Hockey Free! Saturday\, October 28 at Ice Time Sunday\, October 29 at McCann This program is designed for children ages 5   9 yrs old with little or no skating or hockey experience. Each session is limited to 85 participants and space will be filled on a first-come\, first-served basis. Pre-registration is required. Please check the Schedule below and register for the Session of your choice. Please limit registration to one session and one location per participant in order to provide as many children as possible with the chance to try hockey. Session will include:  Free rental skates and loaner equipment  Professional instruction alongside Rangers Alumni  Free Rangers hockey stick for our participants to take home  Post-skate meet & greet with NYR Alumni Must Pre-register: Registration going on now!
X-ALT-DESC;FMTTYPE=text/html:Try Hockey Free! Saturday\, October 28 at Ice Time Sunday\, October 29 at McCann This program is designed for children ages 5 &ndash\; 9 yrs old with little or no skating or hockey experience. Each session is limited to 85 participants and space will be filled on a first-come\, first-served basis. Pre-registration is required. Please check the Schedule below and register for the Session of your choice. Please limit registration to one session and one location per participant in order to provide as many children as possible with the chance to try hockey. Session will include: &bull\;Free rental skates and loaner equipment &bull\;Professional instruction alongside Rangers Alumni &bull\;Free Rangers hockey stick for our participants to take home &bull\;Post-skate meet &amp\; greet with NYR Alumni Must Pre-register: Registration going on now!
LOCATION:McCann Ice Arena at the Mid-Hudson Civic Center 14 Civic Center Plaza Poughkeepsie\, New York 12601
UID:e.2770.10476401
SEQUENCE:3
DTSTAMP:20260426T033622Z
URL:https://business.dcrcoc.org/events/details/try-hockey-free-with-the-new-york-rangers-10476401
END:VEVENT

END:VCALENDAR
