BEGIN:VCALENDAR
VERSION:2.0
PRODID:-//ChamberMaster//Event Calendar 2.0//EN
METHOD:PUBLISH
X-PUBLISHED-TTL:P3D
REFRESH-INTERVAL:P3D
CALSCALE:GREGORIAN
BEGIN:VEVENT
DTSTART:20180217T211500Z
DTEND:20180217T221500Z
X-MICROSOFT-CDO-ALLDAYEVENT:FALSE
SUMMARY:Try Skating Free at McCann Ice Arena!
DESCRIPTION:Try Ice Skating Free! Saturday\, Februray 17\, 2018 4:15pm 5:15pm McCann Ice Arena in Poughkeepsie It's National Skating Month and we want you to try ice skating free! Admission: Free Registration required. Please email bridget@midhudsonciviccenter.org with the date you would like to attend\, the arena and how many guests will be attending.
X-ALT-DESC;FMTTYPE=text/html:Try Ice Skating Free! Saturday\, Februray 17\, 2018 4:15pm&ndash\;5:15pm McCann Ice Arena in Poughkeepsie It&#39\;s National Skating Month and we want you to try ice skating free! Admission: Free Registration required. Please email bridget@midhudsonciviccenter.org with the date you would like to attend\, the arena and how many guests will be attending.
LOCATION:McCann Ice Arena at the Mid-Hudson Civic Center
UID:e.2770.10476800
SEQUENCE:3
DTSTAMP:20260425T222159Z
URL:https://business.dcrcoc.org/events/details/try-skating-free-at-mccann-ice-arena-10476800
END:VEVENT

END:VCALENDAR
