BEGIN:VCALENDAR
VERSION:2.0
PRODID:-//ChamberMaster//Event Calendar 2.0//EN
METHOD:PUBLISH
X-PUBLISHED-TTL:P3D
REFRESH-INTERVAL:P3D
CALSCALE:GREGORIAN
BEGIN:VEVENT
DTSTART:20210608T160000Z
DTEND:20210630T160000Z
X-MICROSOFT-CDO-ALLDAYEVENT:FALSE
SUMMARY:Ulster Savings Bank - Phoenicia Branch to Feature ‘Silhouettes’ Exhibit
DESCRIPTION:Ulster Savings Bank would like to invite the public to their 58 Main Street\, Phoenicia branch to enjoy their latest art exhibit by photographer Mark McCarroll. His exhibit called 'Silhouettes' will be on display at the branch for the month of June. Inspired by local legends Thomas Cole\, Pete Seeger\, and Rip Van Winkle\, Mark brings his dog and camera on a journey of exploration and discovery for views of the Hudson River Valley and the Catskill Mountains. Please contact Mark for sales and additional information at 845-688-0120 or mccmark@twc.com. For more information concerning the exhibit\, please contact Samantha Awand-Gortel\, Phoenicia Branch Manager\, at 845-688-5965\, ext. 6701. The lobby hours are Monday through Thursday\, 8:30-5\, Friday 8:30-6\, and Saturday 9-2.
X-ALT-DESC;FMTTYPE=text/html:Ulster Savings Bank would like to invite the public to their 58 Main Street\, Phoenicia branch to enjoy their latest art exhibit by photographer Mark McCarroll. His exhibit called &lsquo\;Silhouettes&rsquo\; will be on display at the branch for the month of June. Inspired by local legends Thomas Cole\, Pete Seeger\, and Rip Van Winkle\, Mark brings his dog and camera on a journey of exploration and discovery for views of the Hudson River Valley and the Catskill Mountains. Please contact Mark for sales and additional information at 845-688-0120 or mccmark@twc.com. For more information concerning the exhibit\, please contact Samantha Awand-Gortel\, Phoenicia Branch Manager\, at 845-688-5965\, ext. 6701. The lobby hours are Monday through Thursday\, 8:30-5\, Friday 8:30-6\, and Saturday 9-2.
LOCATION:Ulster Savings Bank 58 Main Street Phoencia\, NY 12464
UID:e.2770.10485228
SEQUENCE:3
DTSTAMP:20260421T095830Z
URL:https://business.dcrcoc.org/events/details/ulster-savings-bank-phoenicia-branch-to-feature-silhouettes-exhibit-10485228
END:VEVENT

END:VCALENDAR
