BEGIN:VCALENDAR
VERSION:2.0
PRODID:-//ChamberMaster//Event Calendar 2.0//EN
METHOD:PUBLISH
X-PUBLISHED-TTL:P3D
REFRESH-INTERVAL:P3D
CALSCALE:GREGORIAN
BEGIN:VEVENT
DTSTART:20190418T180000Z
DTEND:20190418T190000Z
X-MICROSOFT-CDO-ALLDAYEVENT:FALSE
SUMMARY:Understanding Alzheimer's and Dementia
DESCRIPTION:Alzheimer's is not normal aging. It's a disease of the brain that causes problems with memory\, thinking and behavior. Learn about the impact of Alzheimer's\, the difference between dementia and Alzheimer's\, Alzheimer's disease stages and risk factors\, current research and treatments available to address some symptoms as well as Alzheimer's Association resources.
X-ALT-DESC;FMTTYPE=text/html:Alzheimer&rsquo\;s is not normal aging. It&rsquo\;s a disease of the brain that causes problems with memory\, thinking and behavior. Learn about the impact of Alzheimer&rsquo\;s\, the difference between dementia and Alzheimer&rsquo\;s\, Alzheimer&rsquo\;s disease stages and risk factors\, current research and treatments available to address some symptoms as well as Alzheimer&rsquo\;s Association resources.
LOCATION:Poughkeepsie Public Library District - Adriance Memorial Library\, 93 Market St\, Poughkeepsie\, NY 12601
UID:e.2770.10480573
SEQUENCE:3
DTSTAMP:20260423T063401Z
URL:https://business.dcrcoc.org/events/details/understanding-alzheimer-s-and-dementia-10480573
END:VEVENT

END:VCALENDAR
