BEGIN:VCALENDAR
VERSION:2.0
PRODID:-//ChamberMaster//Event Calendar 2.0//EN
METHOD:PUBLISH
X-PUBLISHED-TTL:P3D
REFRESH-INTERVAL:P3D
CALSCALE:GREGORIAN
BEGIN:VEVENT
DTSTART:20180425T213000Z
DTEND:20180426T010000Z
X-MICROSOFT-CDO-ALLDAYEVENT:FALSE
SUMMARY:United Way: Celebration of Service Awards Dinner
DESCRIPTION:United Way 80th anniversary being celebrated at our annual awards dinner. Denise Doring VanBuren\, of Central Hudson\, being honored with our Distinguished Leader Award. Evening includes cocktail hour\, dinner\, silent and live auction as well as recognition of several not for profit organizations and our top campaign leaders. Also\, children's art contest with winner having artwork displayed on the cover of our evening's journal. Sponsorship and journal ad opportunities available. Attendance by 450 local business and community leaders is expected.
X-ALT-DESC;FMTTYPE=text/html:United Way 80th anniversary being celebrated at our annual awards dinner. Denise Doring VanBuren\, of Central Hudson\, being honored with our Distinguished Leader Award. Evening includes cocktail hour\, dinner\, silent and live auction as well as recognition of several not for profit organizations and our top campaign leaders. Also\, children&#39\;s art contest with winner having artwork displayed on the cover of our evening&#39\;s journal. Sponsorship and journal ad opportunities available. Attendance by 450 local business and community leaders is expected.
LOCATION:Anthony's Pier 9 New Windsor\, NY
UID:e.2770.10476723
SEQUENCE:3
DTSTAMP:20260425T210616Z
URL:https://business.dcrcoc.org/events/details/united-way-celebration-of-service-awards-dinner-10476723
END:VEVENT

END:VCALENDAR
