BEGIN:VCALENDAR
VERSION:2.0
PRODID:-//ChamberMaster//Event Calendar 2.0//EN
METHOD:PUBLISH
X-PUBLISHED-TTL:P3D
REFRESH-INTERVAL:P3D
CALSCALE:GREGORIAN
BEGIN:VEVENT
DTSTART:20201216T153000Z
DTEND:20201216T170000Z
X-MICROSOFT-CDO-ALLDAYEVENT:FALSE
SUMMARY:United Way - FREE Webinar Employer's Obligation under COVID
DESCRIPTION:The Orange County Youth Bureau and United Way of the Dutchess-Orange Region are excited to partner together to bring this FREE webinar opportunity to nonprofits! *Note: Municipal programs will also benefit from the resources as well. Co-hosting with Visions Human Resource Services\, LLC\, this training will provide valuable information for nonprofits to strategically plan for staffing needs in the months and year ahead. PLEASE REGISTER BY DECEMBER 14th to receive the link. Feel free to contact Rachel Wilson at the Orange County Youth Bureau at 845-615-3620 or rwilson@orangecountygov.com with any questions.
X-ALT-DESC;FMTTYPE=text/html:The Orange County Youth Bureau and United Way of the Dutchess-Orange Region are excited to partner together to bring this FREE webinar opportunity to nonprofits! *Note: Municipal programs will also benefit from the resources as well. Co-hosting with Visions Human Resource Services\, LLC\, this training will provide valuable information for nonprofits to strategically plan for staffing needs in the months and year ahead. PLEASE REGISTER BY DECEMBER 14th to receive the link. Feel free to contact Rachel Wilson at the Orange County Youth Bureau at 845-615-3620 or rwilson@orangecountygov.com with any questions.
LOCATION:
UID:e.2770.10484828
SEQUENCE:3
DTSTAMP:20260421T195915Z
URL:https://business.dcrcoc.org/events/details/united-way-free-webinar-employer-s-obligation-under-covid-10484828
END:VEVENT

END:VCALENDAR
