BEGIN:VCALENDAR
VERSION:2.0
PRODID:-//ChamberMaster//Event Calendar 2.0//EN
METHOD:PUBLISH
X-PUBLISHED-TTL:P3D
REFRESH-INTERVAL:P3D
CALSCALE:GREGORIAN
BEGIN:VEVENT
DTSTART:20210528T160000Z
DTEND:20210602T160000Z
X-MICROSOFT-CDO-ALLDAYEVENT:FALSE
SUMMARY:Up Close and Personal: The Art Effect Exhibition
DESCRIPTION:Up Close and Personal invites you to engage with the age-old notion of getting up close and personal. The exhibition will feature a diverse array of media\, including ceramics\, digital media\, film\, graphic art\, painting\, photography\, printmaking\, sculpture\, textiles\, video and installation art. Up Close and Personal will be exhibited at The Trolley Barn in Poughkeepsie\, an industrial gallery space and is the hub for the area's thriving arts scene.
X-ALT-DESC;FMTTYPE=text/html:Up Close and Personal invites you to engage with the age-old notion of getting up close and personal. The exhibition will feature a diverse array of media\, including ceramics\, digital media\, film\, graphic art\, painting\, photography\, printmaking\, sculpture\, textiles\, video and installation art. Up Close and Personal will be exhibited at The Trolley Barn in Poughkeepsie\, an industrial gallery space and is the hub for the area&rsquo\;s thriving arts scene.
LOCATION:Exhibition is located at the Trolley Barn\, 489 Main St.\, Poughkeepsie\, New York
UID:e.2770.10485059
SEQUENCE:3
DTSTAMP:20260421T095408Z
URL:https://business.dcrcoc.org/events/details/up-close-and-personal-the-art-effect-exhibition-10485059
END:VEVENT

END:VCALENDAR
