BEGIN:VCALENDAR
VERSION:2.0
PRODID:-//ChamberMaster//Event Calendar 2.0//EN
METHOD:PUBLISH
X-PUBLISHED-TTL:P3D
REFRESH-INTERVAL:P3D
CALSCALE:GREGORIAN
BEGIN:VEVENT
DTSTART:20210115T140000Z
DTEND:20210115T153000Z
X-MICROSOFT-CDO-ALLDAYEVENT:FALSE
SUMMARY:Updates to the Paycheck Protection Program
DESCRIPTION:Hear from a panel of experts representing the banking industry\, financial analysts\, and the Small Business Development Center. Webinar to include: eligibility for increased funding\, expanded forgiveness guidance\, new debt relief information and important tax advantages.\n\n\n\nThis virtual event is open to the public and will be available to watch on Zoom.\n\n*Pre-registration is required\, as space is limited. \n\n\n\nTo Register\, Click Here\n\n\n\nSponsored by KeyBank and RBT CPAs\, LLP with support from SBDC
X-ALT-DESC;FMTTYPE=text/html:<br />\n<span style="color: rgb(0\, 0\, 0)\; font-family: &quot\;times new roman&quot\;\; font-size: 16px\;">Hear from a panel of experts representing the banking industry\, financial analysts\, and the Small Business Development Center. Webinar to include:&nbsp\;</span><span style="color:#000000\;"><span style="font-size:16px\;"><span style="font-family:times new roman\;">eligibility for increased funding\,&nbsp\;</span></span></span><span style="color:#000000\;"><span style="font-size:16px\;"><span style="font-family:times new roman\;">expanded forgiveness guidance\, n</span></span></span><span style="color:#000000\;"><span style="font-size:16px\;"><span style="font-family:times new roman\;">ew debt relief information and i</span></span></span><span style="color:#000000\;"><span style="font-size:16px\;"><span style="font-family:times new roman\;">mportant tax advantages.</span></span></span><br />\n<br />\n<span style="font-size:16px\;"><span style="font-family:times new roman\;"><span style="color:#000000\;"><span style="background-image: initial\; background-position: initial\; background-size: initial\; background-repeat: initial\; background-attachment: initial\; background-origin: initial\; background-clip: initial\;">This virtual event is open to the public and will be available to watch on Zoom.</span><br style="font-family: &quot\;times new roman&quot\;\; font-size: 18px\;" />\n<span style="background-image: initial\; background-position: initial\; background-size: initial\; background-repeat: initial\; background-attachment: initial\; background-origin: initial\; background-clip: initial\;">*Pre-registration is required\, as space is limited.&nbsp\;</span></span><br />\n<br />\n<strong><span style="color:#000000\;">To Register\, Click&nbsp\;</span><a href="https://dcrcoc-org.zoom.us/webinar/register/WN_3EtnymyfTQWyk5y1ACEKgw" target="_blank"><span style="color:#0000FF\;">Here</span></a></strong><br />\n<br />\n<span style="color:#000000\;"><strong>Sponsored by </strong></span><strong><a href="https://www.key.com/personal/index.jsp" target="_blank"><span style="color:#0000FF\;">KeyBank</span></a></strong><span style="color:#000000\;"><strong> and </strong></span><strong><a href="https://www.rbtcpas.com/" target="_blank"><span style="color:#0000FF\;">RBT CPAs\, LLP</span></a></strong><span style="color:#000000\;"><strong> with support from </strong></span><strong><a href="https://www.nysbdc.org/centers/centers.aspx?centid=94" target="_blank"><span style="color:#0000FF\;">SBDC</span></a></strong></span></span><br />\n&nbsp\;
LOCATION:
UID:e.2770.10484850
SEQUENCE:3
DTSTAMP:20260421T174933Z
URL:https://business.dcrcoc.org/events/details/updates-to-the-paycheck-protection-program-10484850
END:VEVENT

END:VCALENDAR
