BEGIN:VCALENDAR
VERSION:2.0
PRODID:-//ChamberMaster//Event Calendar 2.0//EN
METHOD:PUBLISH
X-PUBLISHED-TTL:P3D
REFRESH-INTERVAL:P3D
CALSCALE:GREGORIAN
BEGIN:VEVENT
DTSTART:20210419T220000Z
DTEND:20210420T010000Z
X-MICROSOFT-CDO-ALLDAYEVENT:FALSE
SUMMARY:Use Your Financials to Recover from COVID
DESCRIPTION:Join this WEDC two-part workshop to understand financial management and its importance in business decisions.  Participants must attend both sessions on Monday\, April 19th and Monday\, April 26th.\n\n\n\nTopics Include:\n\n\n	Prepare to apply for and receive financing\n	Extract valuable financial information to make adjustments quickly\n	Using financials to meet your business goals
X-ALT-DESC;FMTTYPE=text/html:<p><span style="color:rgb(0\, 0\, 0)\; font-family:open sans\,sans-serif\; font-size:16px">Join this WEDC two-part workshop to understand financial management and its importance in business decisions.&nbsp\; Participants must attend both sessions on Monday\, April 19th and Monday\, April 26th.</span><br />\n<br />\n<span style="font-size:16px"><strong>Topics Include:</strong></span></p>\n\n<ul>\n	<li><span style="font-size:16px">Prepare to apply for and receive financing</span></li>\n	<li><span style="font-size:16px"><span style="font-size:16px">Extract valuable financial information to make adjustments quickly</span></span></li>\n	<li><span style="font-size:16px"><span style="font-size:16px">Using financials to meet your business goals</span></span></li>\n</ul>\n
LOCATION:Online
UID:e.2770.10485033
SEQUENCE:3
DTSTAMP:20260421T130250Z
URL:https://business.dcrcoc.org/events/details/use-your-financials-to-recover-from-covid-10485033
END:VEVENT

END:VCALENDAR
