BEGIN:VCALENDAR
VERSION:2.0
PRODID:-//ChamberMaster//Event Calendar 2.0//EN
METHOD:PUBLISH
X-PUBLISHED-TTL:P3D
REFRESH-INTERVAL:P3D
CALSCALE:GREGORIAN
BEGIN:VEVENT
DTSTART:20180217T001500Z
DTEND:20180217T020000Z
X-MICROSOFT-CDO-ALLDAYEVENT:FALSE
SUMMARY:Valentine's DJ Skate Night at McCann Ice Arena!
DESCRIPTION:DJ Skate Night! Friday\, February 16\, 2018 7:00pm 9:00pm McCann Ice Arena Celebrate Valentine's Day this Friday at DJ Skate Night! Bring a friend and admission is $20 for the both of you! Admission: $20 for 2 guests!
X-ALT-DESC;FMTTYPE=text/html:DJ Skate Night! Friday\, February 16\, 2018 7:00pm&ndash\;9:00pm McCann Ice Arena Celebrate Valentine&#39\;s Day this Friday at DJ Skate Night! Bring a friend and admission is $20 for the both of you! Admission: $20 for 2 guests!
LOCATION:McCann Ice Arena
UID:e.2770.10476799
SEQUENCE:3
DTSTAMP:20260425T222444Z
URL:https://business.dcrcoc.org/events/details/valentine-s-dj-skate-night-at-mccann-ice-arena-10476799
END:VEVENT

END:VCALENDAR
