BEGIN:VCALENDAR
VERSION:2.0
PRODID:-//ChamberMaster//Event Calendar 2.0//EN
METHOD:PUBLISH
X-PUBLISHED-TTL:P3D
REFRESH-INTERVAL:P3D
CALSCALE:GREGORIAN
BEGIN:VEVENT
DTSTART:20210213T170000Z
DTEND:20210213T200000Z
X-MICROSOFT-CDO-ALLDAYEVENT:FALSE
SUMMARY:Valentine's Pop-Up Shop
DESCRIPTION:Join us at Cottage Square for a special Valentine's Day Vendor Pop-Up Shop! Take this opportunity to find the perfect gift for your Valentine.\n\nIn addition to the Cottages\, there will be Pop-Up Shops by Hudson Valley Floral\, Embers Wood Fired Pizza\, Sweetbakes Cafe\, Daffodils Gift Shoppe\, Small Paws Farm\, TR Timbers\, Opal & Amber\, Nostrano Vineyards\, Lilly's Natural Pet Store\, and more!\n\n*This event is weather dependent. Social distancing and masks will be required.
X-ALT-DESC;FMTTYPE=text/html:<p>Join us at Cottage Square for a special Valentine&rsquo\;s Day Vendor Pop-Up Shop! Take this opportunity to find the perfect gift for your Valentine.</p>\n\n<p>In addition to the Cottages\, there will be Pop-Up Shops by Hudson Valley Floral\, Embers Wood Fired Pizza\, Sweetbakes Cafe\, Daffodils Gift Shoppe\, Small Paws Farm\, TR Timbers\, Opal &amp\; Amber\, Nostrano Vineyards\, Lilly&rsquo\;s Natural Pet Store\, and more!</p>\n\n<p>*This event is weather dependent. Social distancing and masks will be required.</p>\n
LOCATION:44 Eastdale Avenue North\, Poughkeepsie NY 12603
UID:e.2770.10484962
SEQUENCE:3
DTSTAMP:20260421T161326Z
URL:https://business.dcrcoc.org/events/details/valentine-s-pop-up-shop-10484962
END:VEVENT

END:VCALENDAR
