BEGIN:VCALENDAR
VERSION:2.0
PRODID:-//ChamberMaster//Event Calendar 2.0//EN
METHOD:PUBLISH
X-PUBLISHED-TTL:P3D
REFRESH-INTERVAL:P3D
CALSCALE:GREGORIAN
BEGIN:VEVENT
DTSTART:20180210T190000Z
DTEND:20180210T210000Z
X-MICROSOFT-CDO-ALLDAYEVENT:FALSE
SUMMARY:Valentine's Wine\, Cheese & Chocolate Tasting
DESCRIPTION:The Cunneen-Hackett Arts Center is again hosting its Valentine's Wine\, Cheese & Chocolate Tasting fundraiser on Saturday 2/10/18 from 2\;00 to 4:00 pm in the Grand Parlor at 9 Vassar Street in Poughkeepsie\, NY.  Admission is $15 pp.  Local venders provide an opportunity to pair different wines with cheeses and chocolates.  Love songs fill the air and artist Maria Angeles Hegglin is displaying her beautiful paintings in the hall gallery.   All art sales benefit the artist and the Art Center.  Celebrate with your Valentine the love of art\, wine\, and delicious combinations of savory\, sweet tastings in an historic Victorian parlor.
X-ALT-DESC;FMTTYPE=text/html:<span abp="2729" style="background-color:rgb(255\, 255\, 255)\; color:rgb(0\, 0\, 0)\; font-family:tahoma\,geneva\,sans-serif\,serif\,emojifont\; font-size:18.66px">The Cunneen-Hackett Arts Center is again hosting its Valentine&#39\;s Wine\, Cheese &amp\; Chocolate Tasting fundraiser&nbsp\;on Saturday 2/10/18 from 2\;00 to 4:00 pm&nbsp\;in the Grand Parlor at 9 Vassar Street in Poughkeepsie\, NY.&nbsp\; Admission is $15 pp.&nbsp\; Local venders provide an opportunity to pair different wines with cheeses and chocolates.&nbsp\; Love songs fill the air and artist Maria Angeles Hegglin is displaying her beautiful paintings in the hall gallery.&nbsp\; &nbsp\;All art sales benefit the artist and the Art Center.&nbsp\; Celebrate with&nbsp\;your Valentine the love of art\, wine\, and delicious combinations of savory\, sweet&nbsp\;</span><span abp="2730" style="background-color:rgb(255\, 255\, 255)\; color:rgb(0\, 0\, 0)\; font-family:tahoma\,geneva\,sans-serif\,serif\,emojifont\; font-size:14pt">tastings in an historic&nbsp\;Victorian parlor.</span>
LOCATION:Cunneen-Hackett Arts Center 9 Vassar Street Poughkeepsie\, NY 12601
UID:e.2770.10476694
SEQUENCE:3
DTSTAMP:20260425T222209Z
URL:https://business.dcrcoc.org/events/details/valentine-s-wine-cheese-chocolate-tasting-02-10-2018-10476694
END:VEVENT

END:VCALENDAR
